BEGIN:VCALENDAR
VERSION:2.0
PRODID:-//RAINIER AUDUBON SOCIETY - ECPv6.15.20//NONSGML v1.0//EN
CALSCALE:GREGORIAN
METHOD:PUBLISH
X-ORIGINAL-URL:https://rainieraudubon.org
X-WR-CALDESC:Events for RAINIER AUDUBON SOCIETY
REFRESH-INTERVAL;VALUE=DURATION:PT1H
X-Robots-Tag:noindex
X-PUBLISHED-TTL:PT1H
BEGIN:VTIMEZONE
TZID:America/Los_Angeles
BEGIN:DAYLIGHT
TZOFFSETFROM:-0800
TZOFFSETTO:-0700
TZNAME:PDT
DTSTART:20250309T100000
END:DAYLIGHT
BEGIN:STANDARD
TZOFFSETFROM:-0700
TZOFFSETTO:-0800
TZNAME:PST
DTSTART:20251102T090000
END:STANDARD
BEGIN:DAYLIGHT
TZOFFSETFROM:-0800
TZOFFSETTO:-0700
TZNAME:PDT
DTSTART:20260308T100000
END:DAYLIGHT
BEGIN:STANDARD
TZOFFSETFROM:-0700
TZOFFSETTO:-0800
TZNAME:PST
DTSTART:20261101T090000
END:STANDARD
BEGIN:DAYLIGHT
TZOFFSETFROM:-0800
TZOFFSETTO:-0700
TZNAME:PDT
DTSTART:20270314T100000
END:DAYLIGHT
BEGIN:STANDARD
TZOFFSETFROM:-0700
TZOFFSETTO:-0800
TZNAME:PST
DTSTART:20271107T090000
END:STANDARD
END:VTIMEZONE
BEGIN:VEVENT
DTSTART;TZID=America/Los_Angeles:20260320T080000
DTEND;TZID=America/Los_Angeles:20260322T170000
DTSTAMP:20260423T092639
CREATED:20260223T182247Z
LAST-MODIFIED:20260304T185534Z
UID:10003188-1773993600-1774198800@rainieraudubon.org
SUMMARY:2026 Othello Sandhill Crane Festival
DESCRIPTION:Join us March 20-22\, 2026\, in the beautiful Columbia Basin\, Othello\, WA. You’ll have the chance to see thousands of Sandhill Cranes\, ducks\, and geese as they gather against the stunning backdrop of the Saddle Mountains and sprawling cornfields. We have a fantastic lineup of wildlife viewing opportunities\, along with engaging talks\, fun tours\, hikes\, and workshops for everyone to enjoy. Experience the warmth of our friendly rural community while taking in the fantastic sight of the Sandhill Crane migration. We can’t wait to see you there! 
URL:https://rainieraudubon.org/event/2026-othello-sandhill-crane-festival/
CATEGORIES:Bird Festivals
ATTACH;FMTTYPE=image/avif:https://rainieraudubon.org/wp-content/uploads/2026/02/2026_Poster_Final_JPG_edited.avif
END:VEVENT
END:VCALENDAR