BEGIN:VCALENDAR
VERSION:2.0
PRODID:-//RAINIER AUDUBON SOCIETY - ECPv6.15.20//NONSGML v1.0//EN
CALSCALE:GREGORIAN
METHOD:PUBLISH
X-WR-CALNAME:RAINIER AUDUBON SOCIETY
X-ORIGINAL-URL:https://rainieraudubon.org
X-WR-CALDESC:Events for RAINIER AUDUBON SOCIETY
REFRESH-INTERVAL;VALUE=DURATION:PT1H
X-Robots-Tag:noindex
X-PUBLISHED-TTL:PT1H
BEGIN:VTIMEZONE
TZID:America/Los_Angeles
BEGIN:DAYLIGHT
TZOFFSETFROM:-0800
TZOFFSETTO:-0700
TZNAME:PDT
DTSTART:20210314T100000
END:DAYLIGHT
BEGIN:STANDARD
TZOFFSETFROM:-0700
TZOFFSETTO:-0800
TZNAME:PST
DTSTART:20211107T090000
END:STANDARD
BEGIN:DAYLIGHT
TZOFFSETFROM:-0800
TZOFFSETTO:-0700
TZNAME:PDT
DTSTART:20220313T100000
END:DAYLIGHT
BEGIN:STANDARD
TZOFFSETFROM:-0700
TZOFFSETTO:-0800
TZNAME:PST
DTSTART:20221106T090000
END:STANDARD
BEGIN:DAYLIGHT
TZOFFSETFROM:-0800
TZOFFSETTO:-0700
TZNAME:PDT
DTSTART:20230312T100000
END:DAYLIGHT
BEGIN:STANDARD
TZOFFSETFROM:-0700
TZOFFSETTO:-0800
TZNAME:PST
DTSTART:20231105T090000
END:STANDARD
END:VTIMEZONE
BEGIN:VEVENT
DTSTART;TZID=America/Los_Angeles:20220625T090000
DTEND;TZID=America/Los_Angeles:20220625T150000
DTSTAMP:20260423T115404
CREATED:20211209T053709Z
LAST-MODIFIED:20220610T222628Z
UID:10001027-1656147600-1656169200@rainieraudubon.org
SUMMARY:Rainier Audubon Bird Festival
DESCRIPTION:At Flaming Geyser State Park \n\n\n\n\n\nWe are open for volunteers to help in setup\, take down\,  manning tables\, etc.  \n\n\n\nPlease contact Jay Galvin if interested in volunteering.  gjgalvin@comcast.net      ph. 253-939-3094. \n\n\n\nFour Bird walks starting at 9 AM – 10 AM-11 AM- 12 PM. Limited to first 12 to sign up for each walk. \n\n\n\nRegister under the specific Bird walk event.
URL:https://rainieraudubon.org/event/bird-festival-at-flaming-geyser-state-park/
LOCATION:Flaming Geyser State Park\, 23700 SE Flaming Geyser Rd\, Auburn\, Washington\, 98092\, United States
CATEGORIES:Bird Festivals
ATTACH;FMTTYPE=image/jpeg:https://rainieraudubon.org/wp-content/uploads/2021/12/Schedule-of-events-copy.jpg
ORGANIZER;CN="Jay Galvin":MAILTO:gjgalvin@comcast.net
END:VEVENT
BEGIN:VEVENT
DTSTART;TZID=America/Los_Angeles:20220520T183000
DTEND;TZID=America/Los_Angeles:20220520T200000
DTSTAMP:20260423T115404
CREATED:20220505T163355Z
LAST-MODIFIED:20220505T164016Z
UID:10001045-1653071400-1653076800@rainieraudubon.org
SUMMARY:Birding Malheur National Wildlife Reguge
DESCRIPTION:by Dan Streiffert \n\n\n\n\n\nAt the Levenworth Spring Birdfest\n\n\n\nhttps://wenatcheeriverinstitute.org/bird-fest/bird-fest-schedule-2022.html \n\n\n\nBirding the vast expanse of Harney County’s 10\,000+ sq. miles can be daunting. Which birds are where? and when? Dan Streiffert has been birding and photographing in Harney County for 15+ years. This presentation showcases his approach to taking advantage of particular birding ‘routes’ that cover the diverse landscape and discovers the array of birds and other wildlife available. Dan will share tips and tricks for seeing particular species at different times of the day or throughout the year. \n\n\n\nA Free Event available in person or by Zoom \n\n\n\n\nJoin Zoom Presentation
URL:https://rainieraudubon.org/event/birding-malheur-national-wildlife-reguge/
CATEGORIES:Bird Festivals
ATTACH;FMTTYPE=image/jpeg:https://rainieraudubon.org/wp-content/uploads/2022/05/2022-04-18_DLS_0308.jpg
END:VEVENT
BEGIN:VEVENT
DTSTART;TZID=America/Los_Angeles:20220513T000000
DTEND;TZID=America/Los_Angeles:20220515T235959
DTSTAMP:20260423T115404
CREATED:20220409T040608Z
LAST-MODIFIED:20220409T040615Z
UID:10001043-1652400000-1652659199@rainieraudubon.org
SUMMARY:Creston Valley Bird Festival
DESCRIPTION:Creston\, BC \n\n\n\n\n\n\n\nLearn to Birdwatch\n\n\n\nGuided Birding Tours by field experts. By foot\, bus\, kayak\, or just relax in a lawn chair and wait for the birds to arrive!Basics of Bird Identification WorkshopBotany and Bird Hike up the Balancing Rock TrailFriends of Kootenay Lake presentation on Osprey Monitoring in Kootenay Lake\n\n\n\nKids Events\n\n\n\nGuided Canoe Tours (with KCDCS)Bird Kite Building Workshop\, Family Bird-a-thon\, and Bird Bingo with some great prizes!Botany and Birds for KidsCarla from the Discovery Centre will provide some fun facts for kids!\n\n\n\n\nLearn More
URL:https://rainieraudubon.org/event/creston-valley-bird-festival/
CATEGORIES:Bird Festivals
ATTACH;FMTTYPE=image/png:https://rainieraudubon.org/wp-content/uploads/2022/04/CrestonValleyBirdFest.png
END:VEVENT
BEGIN:VEVENT
DTSTART;TZID=America/Los_Angeles:20220422T080000
DTEND;TZID=America/Los_Angeles:20220424T170000
DTSTAMP:20260423T115404
CREATED:20211211T182746Z
LAST-MODIFIED:20220404T181412Z
UID:10001028-1650614400-1650819600@rainieraudubon.org
SUMMARY:Olympic Peninsula BirdFest 2022 (Canceled until 2023!)
DESCRIPTION:Finally\, after a two-year absence\, we are delighted to announce the return of the Olympic Peninsula BirdFest! Grab your binoculars and join the celebration at the newly expanded Dungeness River Nature Center (formerly the Dungeness River Audubon Center)\, April 22-24\, 2022. \n\n\n\nCome bird with us and discover with others the spectacular landscapes of the Olympic Peninsula. Enjoy guided birding trips with local experts in varied habitats\, from bays and estuaries along the Strait of Juan de Fuca to the forests of the Dungeness Recreation Area. Join a boat tour around a protected island bird sanctuary on the Strait of Juan de Fuca. Take in a talk about our local birds or join any of the other events on offer. \n\n\n\nOur gala banquet on Saturday night will include a live auction and raffle. The featured speaker this year\, Deborah Jensen\, PhD\, is the Director of Audubon Washington and the former director of Woodland Park Zoo in Seattle. \n\n\n\nPrecede your BirdFest weekend with a three-day\, two-night birding cruise of the spectacular San Juan Islands on April19-21\, 2022. Visit San Juan and Sucia Islands and stay in picturesque Friday Harbor. \n\n\n\nYou just might go home with a new bird for your life list! Check out the offerings by going online (www.olympicbirdfest.org). \n\n\n\nContact us by phone\, at 360-681-4076 \n\n\n\n E-mail us at info@olympicbirdfest.org \n\n\n\nOr write to us at: \n\n\n\nDungeness River Nature CenterP.O. Box 2450Sequim\, WA 98382
URL:https://rainieraudubon.org/event/olympic-peninsula-birdfest-2022/
LOCATION:Dungeness River Nature Center\, 2151 W Hendrickson Rd\, Sequim\, WA 98382\, Sequim\, Washington
CATEGORIES:Bird Festivals
ATTACH;FMTTYPE=image/jpeg:https://rainieraudubon.org/wp-content/uploads/2021/12/BF2022-Flyer-share.jpg
END:VEVENT
BEGIN:VEVENT
DTSTART;TZID=America/Los_Angeles:20220421T000000
DTEND;TZID=America/Los_Angeles:20220424T235959
DTSTAMP:20260423T115404
CREATED:20211125T030314Z
LAST-MODIFIED:20220321T172818Z
UID:10001026-1650499200-1650844799@rainieraudubon.org
SUMMARY:Harney County Migratory Bird Festival
DESCRIPTION:Spend an amazing weekend witnessing the spectacular spring migration in the Harney Basin of Southeast Oregon. View thousands of migratory birds as they rest and feed in the open spaces of Oregon’s high desert. Held annually in April in Harney County. \n\n\n\nThe Harney County Migratory Bird Festival was first held in 1981 ​to celebrate the large annual migration of birds passing through Harney Basin on the Pacific Flyway. Harney Basin is one of the three most important areas left in the western United States for spring migratory birds stopping on their way north. \n\n\n\nOver 300 species of birds use the refuge throughout each year\, making Harney Basin a bird watcher’s paradise. Today\, we continue to celebrate the migratory birds’ return each year with guided tours led by experts\, workshops\, and fun activities for both youth and adults.
URL:https://rainieraudubon.org/event/harney-county-migratory-bird-festival/
LOCATION:Burns\, Oregon\, Burns\, Oregon
CATEGORIES:Bird Festivals
ATTACH;FMTTYPE=image/jpeg:https://rainieraudubon.org/wp-content/uploads/2021/11/2021-04-18_0003-DLS.jpg
END:VEVENT
BEGIN:VEVENT
DTSTART;TZID=America/Los_Angeles:20220218T080000
DTEND;TZID=America/Los_Angeles:20220220T170000
DTSTAMP:20260423T115404
CREATED:20211123T171444Z
LAST-MODIFIED:20211211T184105Z
UID:10001025-1645171200-1645376400@rainieraudubon.org
SUMMARY:Winter Wings Festival in Klamath Falls\, Oregon
DESCRIPTION:The Winter Wings Festival is produced by Klamath Basin Audubon Society volunteers with support from sponsors\, grants\, and participant registration fees. Proceeds from this festival support local grants to teachers and other entities for outdoor education and community nature-related projects. Typically the reported species at the festival number about 120 – 133. Here is our 2019 festival bird species count. \n\n\n\n\nLearn More
URL:https://rainieraudubon.org/event/winter-wings-festival-in-klamath-falls-oregon/
LOCATION:Kalamath Falls\, Kalamath Falls\, Oregon
CATEGORIES:Bird Festivals
ATTACH;FMTTYPE=image/jpeg:https://rainieraudubon.org/wp-content/uploads/2021/11/SnowGees2.jpg
END:VEVENT
END:VCALENDAR