BEGIN:VCALENDAR
VERSION:2.0
PRODID:-//RAINIER AUDUBON SOCIETY - ECPv6.15.20//NONSGML v1.0//EN
CALSCALE:GREGORIAN
METHOD:PUBLISH
X-WR-CALNAME:RAINIER AUDUBON SOCIETY
X-ORIGINAL-URL:https://rainieraudubon.org
X-WR-CALDESC:Events for RAINIER AUDUBON SOCIETY
REFRESH-INTERVAL;VALUE=DURATION:PT1H
X-Robots-Tag:noindex
X-PUBLISHED-TTL:PT1H
BEGIN:VTIMEZONE
TZID:America/Los_Angeles
BEGIN:DAYLIGHT
TZOFFSETFROM:-0800
TZOFFSETTO:-0700
TZNAME:PDT
DTSTART:20210314T100000
END:DAYLIGHT
BEGIN:STANDARD
TZOFFSETFROM:-0700
TZOFFSETTO:-0800
TZNAME:PST
DTSTART:20211107T090000
END:STANDARD
BEGIN:DAYLIGHT
TZOFFSETFROM:-0800
TZOFFSETTO:-0700
TZNAME:PDT
DTSTART:20220313T100000
END:DAYLIGHT
BEGIN:STANDARD
TZOFFSETFROM:-0700
TZOFFSETTO:-0800
TZNAME:PST
DTSTART:20221106T090000
END:STANDARD
BEGIN:DAYLIGHT
TZOFFSETFROM:-0800
TZOFFSETTO:-0700
TZNAME:PDT
DTSTART:20230312T100000
END:DAYLIGHT
BEGIN:STANDARD
TZOFFSETFROM:-0700
TZOFFSETTO:-0800
TZNAME:PST
DTSTART:20231105T090000
END:STANDARD
END:VTIMEZONE
BEGIN:VEVENT
DTSTART;TZID=America/Los_Angeles:20220827T080000
DTEND;TZID=America/Los_Angeles:20220827T110000
DTSTAMP:20260425T180857
CREATED:20220818T015104Z
LAST-MODIFIED:20220818T015640Z
UID:10001064-1661587200-1661598000@rainieraudubon.org
SUMMARY:Morning Birdwatching Walk with Leica Store Bellevue at Magnuson Park
DESCRIPTION:Join Leica Birding Specialist\, Whitney Lanfranco\, Wildlife Researcher\, Mike Lanzone\, and Leica Store Bellevue for an early morning Birdwatching Walk in Warren G. Magnuson Park on Saturday\, August 27th\, 2022\, from 8:00 – 11:00 am. The walk will meet at 7:30 for check-in at the northern corner of Parking Lot E4 (47.681100\, -122.248143)\, which is the parking lot near the bathrooms and Swim Area at the Northeast end of Lakeshore Drive NE. \n\n\n\nLook for the Leica Store Bellevue shade shelter where we will have coffee\, pastries for all walkers. A limited number of loaner Leica Sport Optics equipment will be available for use during the bird walk on a first come\, first-served basis. A photo ID and credit card will be necessary for any loaner equipment. We look forward to seeing you there! \n\n\n\nAbout Wildlife Researcher\, Michael Lanzone \n\n\n\nMichael Lanzone is the CEO of Cellular Tracking Technologies\, a company that develops high-end animal tracking devices for studies conducted across the globe. Over his career he has worked for various state and federal agencies and not-for-profit organizations across the country. He was director of the Bioacoustics and Biomonitoring Laboratory at Carnegie Museum of Natural History’s Powdermill Avian Research Center\, co-founder of the Eastern Golden Eagle Working group\, and was Assistant Coordinator for the 2nd Pennsylvania Breeding Bird Atlas. He has worked on many other research and banding projects across the world and has specialized in technological advancements and applied conservation in ornithology including bioacoustics and Golden Eagle ecology and conservation. \n\n\n\nRegister It’s Free!
URL:https://rainieraudubon.org/event/morning-birdwatching-walk-with-leica-store-bellevue-at-magnuson-park/
LOCATION:Washington
CATEGORIES:Fieldtrips
END:VEVENT
END:VCALENDAR