BEGIN:VCALENDAR
VERSION:2.0
PRODID:-//RAINIER AUDUBON SOCIETY - ECPv6.15.20//NONSGML v1.0//EN
CALSCALE:GREGORIAN
METHOD:PUBLISH
X-ORIGINAL-URL:https://rainieraudubon.org
X-WR-CALDESC:Events for RAINIER AUDUBON SOCIETY
REFRESH-INTERVAL;VALUE=DURATION:PT1H
X-Robots-Tag:noindex
X-PUBLISHED-TTL:PT1H
BEGIN:VTIMEZONE
TZID:America/Los_Angeles
BEGIN:DAYLIGHT
TZOFFSETFROM:-0800
TZOFFSETTO:-0700
TZNAME:PDT
DTSTART:20210314T100000
END:DAYLIGHT
BEGIN:STANDARD
TZOFFSETFROM:-0700
TZOFFSETTO:-0800
TZNAME:PST
DTSTART:20211107T090000
END:STANDARD
BEGIN:DAYLIGHT
TZOFFSETFROM:-0800
TZOFFSETTO:-0700
TZNAME:PDT
DTSTART:20220313T100000
END:DAYLIGHT
BEGIN:STANDARD
TZOFFSETFROM:-0700
TZOFFSETTO:-0800
TZNAME:PST
DTSTART:20221106T090000
END:STANDARD
BEGIN:DAYLIGHT
TZOFFSETFROM:-0800
TZOFFSETTO:-0700
TZNAME:PDT
DTSTART:20230312T100000
END:DAYLIGHT
BEGIN:STANDARD
TZOFFSETFROM:-0700
TZOFFSETTO:-0800
TZNAME:PST
DTSTART:20231105T090000
END:STANDARD
END:VTIMEZONE
BEGIN:VEVENT
DTSTART;TZID=America/Los_Angeles:20221105T090000
DTEND;TZID=America/Los_Angeles:20221105T130000
DTSTAMP:20260425T140334
CREATED:20221014T033502Z
LAST-MODIFIED:20221014T034808Z
UID:10001130-1667638800-1667653200@rainieraudubon.org
SUMMARY:Fall Color and Fall Birds\, continued
DESCRIPTION:by Steve Johnson \n\n\n\n\n\nLong-billed Dowicher \n\n\n\nThe last one was so much fun\, we’re doing it again! Let’s hit some of the places we missed on our October field trip. There are more  picturesque parks and beaches to check out in King and Pierce County and it’s a great time of year to look for returning fall birds. This is a good time of year to encounter scenic views and fall color. Expect to walk short distances from the cars. People who wish to leave early may do so. \n\n\n\nContact Steve Johnson at 253-941-9852 or cell 253-766-9989 to be included. \n\n\n\nBring: Lunch\, beverages\, and warm clothes. A scope is very welcome. Mask wearing is optional  \n\n\n\nMeet: 8:00AM at the Redondo Heights Park and Ride- 27454 Pacific Hwy S\, Federal Way\, WA 98003 \n\n\n\nhttps://goo.gl/maps/3wr2t2fuB15e6S997
URL:https://rainieraudubon.org/event/fall-color-and-fall-birds-continued/
LOCATION:Washington
CATEGORIES:Fieldtrips
ATTACH;FMTTYPE=image/jpeg:https://rainieraudubon.org/wp-content/uploads/2022/10/2017-10-28_0272-DLS.jpg
END:VEVENT
END:VCALENDAR