BEGIN:VCALENDAR
VERSION:2.0
PRODID:-//RAINIER AUDUBON SOCIETY - ECPv6.15.20//NONSGML v1.0//EN
CALSCALE:GREGORIAN
METHOD:PUBLISH
X-WR-CALNAME:RAINIER AUDUBON SOCIETY
X-ORIGINAL-URL:https://rainieraudubon.org
X-WR-CALDESC:Events for RAINIER AUDUBON SOCIETY
REFRESH-INTERVAL;VALUE=DURATION:PT1H
X-Robots-Tag:noindex
X-PUBLISHED-TTL:PT1H
BEGIN:VTIMEZONE
TZID:America/Los_Angeles
BEGIN:DAYLIGHT
TZOFFSETFROM:-0800
TZOFFSETTO:-0700
TZNAME:PDT
DTSTART:20220313T100000
END:DAYLIGHT
BEGIN:STANDARD
TZOFFSETFROM:-0700
TZOFFSETTO:-0800
TZNAME:PST
DTSTART:20221106T090000
END:STANDARD
BEGIN:DAYLIGHT
TZOFFSETFROM:-0800
TZOFFSETTO:-0700
TZNAME:PDT
DTSTART:20230312T100000
END:DAYLIGHT
BEGIN:STANDARD
TZOFFSETFROM:-0700
TZOFFSETTO:-0800
TZNAME:PST
DTSTART:20231105T090000
END:STANDARD
BEGIN:DAYLIGHT
TZOFFSETFROM:-0800
TZOFFSETTO:-0700
TZNAME:PDT
DTSTART:20240310T100000
END:DAYLIGHT
BEGIN:STANDARD
TZOFFSETFROM:-0700
TZOFFSETTO:-0800
TZNAME:PST
DTSTART:20241103T090000
END:STANDARD
END:VTIMEZONE
BEGIN:VEVENT
DTSTART;TZID=America/Los_Angeles:20231101T090000
DTEND;TZID=America/Los_Angeles:20231101T170000
DTSTAMP:20260424T200917
CREATED:20231028T225821Z
LAST-MODIFIED:20231101T232614Z
UID:10003093-1698829200-1698858000@rainieraudubon.org
SUMMARY:Fort Steilacoom weekly field trip with TAS (Dates to be determined)
DESCRIPTION:Dates to be determined
URL:https://rainieraudubon.org/event/fort-steilacoom-weekly-field-trip-with-tas-dates-to-be-determined/
LOCATION:Washington
CATEGORIES:Fieldtrips
ATTACH;FMTTYPE=image/jpeg:https://rainieraudubon.org/wp-content/uploads/2023/10/IMG_6161_edited-1.jpg
END:VEVENT
BEGIN:VEVENT
DTSTART;TZID=America/Los_Angeles:20231112T090000
DTEND;TZID=America/Los_Angeles:20231112T120000
DTSTAMP:20260424T200917
CREATED:20231019T024858Z
LAST-MODIFIED:20231101T233019Z
UID:10003082-1699779600-1699790400@rainieraudubon.org
SUMMARY:Clark Lake Park- Half Day bird walk with Barbara Petersen and Heather Gibson
DESCRIPTION:Join Barbara and Heather’s for a late fall exploration of Clark Lake Park. The park offers a variety of habitat types and bird species. Follow trails to the lake and through forest\, wetland\, meadow and even an old orchard.  \n\n\n\n\n\n\n\nWe’ll walk one to two miles at a leisurely pace searching for waterfowl\, raptors and other species wintering here. Bring binoculars\, spotting scopes\, cameras\, warm layers\, water and snacks.
URL:https://rainieraudubon.org/event/clark-lake-park-half-day-bird-walk-with-barbara-petersen-and-heather-gibson/
LOCATION:Clark Lake Park\, 12520 SE 240th Street\, Kent\, Washington\, 98031\, United States
CATEGORIES:Fieldtrips
ATTACH;FMTTYPE=image/jpeg:https://rainieraudubon.org/wp-content/uploads/2021/10/Bewicks-Wren.jpg
END:VEVENT
END:VCALENDAR