BEGIN:VCALENDAR
VERSION:2.0
PRODID:-//RAINIER AUDUBON SOCIETY - ECPv6.15.20//NONSGML v1.0//EN
CALSCALE:GREGORIAN
METHOD:PUBLISH
X-ORIGINAL-URL:https://rainieraudubon.org
X-WR-CALDESC:Events for RAINIER AUDUBON SOCIETY
REFRESH-INTERVAL;VALUE=DURATION:PT1H
X-Robots-Tag:noindex
X-PUBLISHED-TTL:PT1H
BEGIN:VTIMEZONE
TZID:America/Los_Angeles
BEGIN:DAYLIGHT
TZOFFSETFROM:-0800
TZOFFSETTO:-0700
TZNAME:PDT
DTSTART:20230312T100000
END:DAYLIGHT
BEGIN:STANDARD
TZOFFSETFROM:-0700
TZOFFSETTO:-0800
TZNAME:PST
DTSTART:20231105T090000
END:STANDARD
BEGIN:DAYLIGHT
TZOFFSETFROM:-0800
TZOFFSETTO:-0700
TZNAME:PDT
DTSTART:20240310T100000
END:DAYLIGHT
BEGIN:STANDARD
TZOFFSETFROM:-0700
TZOFFSETTO:-0800
TZNAME:PST
DTSTART:20241103T090000
END:STANDARD
BEGIN:DAYLIGHT
TZOFFSETFROM:-0800
TZOFFSETTO:-0700
TZNAME:PDT
DTSTART:20250309T100000
END:DAYLIGHT
BEGIN:STANDARD
TZOFFSETFROM:-0700
TZOFFSETTO:-0800
TZNAME:PST
DTSTART:20251102T090000
END:STANDARD
END:VTIMEZONE
BEGIN:VEVENT
DTSTART;TZID=America/Los_Angeles:20240217T100000
DTEND;TZID=America/Los_Angeles:20240217T140000
DTSTAMP:20260424T161933
CREATED:20240123T002836Z
LAST-MODIFIED:20240123T002841Z
UID:10003108-1708164000-1708178400@rainieraudubon.org
SUMMARY:Burien Bird Fest
DESCRIPTION:
URL:https://rainieraudubon.org/event/burien-bird-fest-2/
LOCATION:Burien Community Center\, 14700 6th Ave SW\, Burien\, Washington\, 98166\, United States
CATEGORIES:Bird Festivals,Fieldtrips
ATTACH;FMTTYPE=image/jpeg:https://rainieraudubon.org/wp-content/uploads/2024/01/2024-Birdfest-Social-Media-Flyer.jpg
END:VEVENT
BEGIN:VEVENT
DTSTART;TZID=America/Los_Angeles:20240226T073000
DTEND;TZID=America/Los_Angeles:20240226T160000
DTSTAMP:20260424T161933
CREATED:20231028T223828Z
LAST-MODIFIED:20240219T165456Z
UID:10003090-1708932600-1708963200@rainieraudubon.org
SUMMARY:Lewis County trip with Roger Orness
DESCRIPTION:Trip limited to 11 People!\n\n\n\nSign up with Roger at 253-312-656
URL:https://rainieraudubon.org/event/february-date-to-be-determined-lewis-county-trip-with-r-orness/
LOCATION:Middle of parking lot between Federal Way Costco and Hobby Lobby\, 35100 Enchanted Pkwy S\, Federal Way\,\, Washington\, 98003\, United States
CATEGORIES:Fieldtrips
ATTACH;FMTTYPE=image/jpeg:https://rainieraudubon.org/wp-content/uploads/2023/10/2018-10-24_0090-DLS-Enhanced-NR.jpg
END:VEVENT
END:VCALENDAR