BEGIN:VCALENDAR
VERSION:2.0
PRODID:-//RAINIER AUDUBON SOCIETY - ECPv6.15.20//NONSGML v1.0//EN
CALSCALE:GREGORIAN
METHOD:PUBLISH
X-WR-CALNAME:RAINIER AUDUBON SOCIETY
X-ORIGINAL-URL:https://rainieraudubon.org
X-WR-CALDESC:Events for RAINIER AUDUBON SOCIETY
REFRESH-INTERVAL;VALUE=DURATION:PT1H
X-Robots-Tag:noindex
X-PUBLISHED-TTL:PT1H
BEGIN:VTIMEZONE
TZID:America/Los_Angeles
BEGIN:DAYLIGHT
TZOFFSETFROM:-0800
TZOFFSETTO:-0700
TZNAME:PDT
DTSTART:20230312T100000
END:DAYLIGHT
BEGIN:STANDARD
TZOFFSETFROM:-0700
TZOFFSETTO:-0800
TZNAME:PST
DTSTART:20231105T090000
END:STANDARD
BEGIN:DAYLIGHT
TZOFFSETFROM:-0800
TZOFFSETTO:-0700
TZNAME:PDT
DTSTART:20240310T100000
END:DAYLIGHT
BEGIN:STANDARD
TZOFFSETFROM:-0700
TZOFFSETTO:-0800
TZNAME:PST
DTSTART:20241103T090000
END:STANDARD
BEGIN:DAYLIGHT
TZOFFSETFROM:-0800
TZOFFSETTO:-0700
TZNAME:PDT
DTSTART:20250309T100000
END:DAYLIGHT
BEGIN:STANDARD
TZOFFSETFROM:-0700
TZOFFSETTO:-0800
TZNAME:PST
DTSTART:20251102T090000
END:STANDARD
END:VTIMEZONE
BEGIN:VEVENT
DTSTART;TZID=America/Los_Angeles:20240511T000000
DTEND;TZID=America/Los_Angeles:20240511T235959
DTSTAMP:20260424T110827
CREATED:20240317T173905Z
LAST-MODIFIED:20240321T224647Z
UID:10003113-1715385600-1715471999@rainieraudubon.org
SUMMARY:Birdathon Field Trip to Eastern Washington
DESCRIPTION:Raise Birdathon money for Rainier Audubon’s Nest Box Project expansion!  \n\n\n\nJoin Barbara Petersen for a fundraising field trip to Eastern Washington! \n\n\n\nBurrowing Owl – Othello\, WA – 6/22/09\n\n\n\nGather your own Birdathon sponsors for this trip\, OR sponsor Barbara by pledging 25 cents per species found on the trip (or any donation amount). All funds will be used to purchase supplies for additional nest boxes as we expand this beneficial RAS project beyond Emerald Downs\, Soos Creek Botanical Garden and Clark Lake Park to other properties. We’ll bird spots on Snoqualmie Pass\, in Cle Elum\, Ellensburg\, Vantage\, Frenchman’s Coulee\, and near Wanapum Dam. With a goal of 75 species\, we’ll look for Mountain and Western Bluebird\, Mountain Chickadee\, Say’s Phoebe\, White-throated Swift\, Pygmy and White-breasted Nuthatch\, Yellow-headed Blackbirds\, raptors\, waterfowl\, and some lovely scenery. \n\n\n\nMeet at 7:00AM at South Renton Park & Ride\, 205 S 7th St\, just north of Grady Way and Renton Village Shopping Center\, to form carpools. Bring binoculars\, scopes\, cameras\, layered clothing for varying weather conditions\, lunch\, snacks\, beverages\, sunscreen. We’ll likely stop for dinner on the way back\, return to P&R as late as 8 or 9:00 PM. \n\n\n\nEmail Barbara at bpbatfan@aol.com or voice message/text 253 389 3204 to sign up for this special Birdathon Field Trip!
URL:https://rainieraudubon.org/event/birdathon-field-trip-to-eastern-washington-2/
LOCATION:Washington
CATEGORIES:eBird Event,Fieldtrips
ATTACH;FMTTYPE=image/jpeg:https://rainieraudubon.org/wp-content/uploads/2024/03/unnamed.jpg
END:VEVENT
BEGIN:VEVENT
DTSTART;TZID=America/Los_Angeles:20240511T190000
DTEND;TZID=America/Los_Angeles:20240511T213000
DTSTAMP:20260424T110827
CREATED:20240427T044423Z
LAST-MODIFIED:20240428T190047Z
UID:10003117-1715454000-1715463000@rainieraudubon.org
SUMMARY:Swift Night Out – Vaux’s Swifts in Selleck\, WA
DESCRIPTION:Backup Date: Saturday\, May 18 @ 7:00 pm – 9:30 pm \n\n\n\nLeaders: Dolly Owen\, Ken Schroeder \n\n\n\n\nVaux’x Swift\n\n\n\nSelleck Schoolhouse Chimney\n\n\n\nWatching the Swifts\n\n\n\n\nJoin us for a “Swift Night Out” in the small town of Selleck\, WA to see the amazing Vaux’s swifts return for the evening to their brick-chimney\, communal roost site. Each May\, thousands of migrating Vaux’s Swifts stop off for a well-deserved rest on their long journey to northern Canada. While the number of Swift’s returning to this site is weather dependent\, we can expect to see many hundreds or even thousands of birds after sunset. We will meet in Covington and carpool to Selleck to minimize our impact on this small community. In case of rain\, we will reschedule the outing to the following week. See the links below for more details.  \n\n\n\nMeet:   Fred Meyer’s North Parking Lot\, Covington – 16735 SE 272nd St\, Covington\, WA 98042 \n\n\n\nDirections: We will meet in the north parking lot of Fred Meyers’s in Covington. This is the same shopping center for the Covington Costco.  From HWY 18 take the WA-516/SE 272nd ST exit toward Covington. This street is also called Kent-Kangley Road.  Just east of the bridge there is a Wendy’s on the right. Either turn right at Wendy’s or at the next stoplight at 168th PL SE. Find us close to the restaurant parking lot\, near Fred Meyer’s.   \n\n\n\nBring: Snacks\, drinks\, lawn chair\, and a warm jacket. Binoculars are optional\, \n\n\n\nAccess: Easy access with no walking required. Bring along your lawn chair for comfortable viewing.  \n\n\n\nSign-up: Call or email Ken Schroeder to sign-up or for more information. \n\n\n\nkenschroeder@msn.com 253-939-7470 \n\n\n\nMore Information:  \n\n\n\n\nCounting Vaux’s Swifts at the Selleck Schoolhouse\n\n\n\n\nhttps://www.vauxhappening.org
URL:https://rainieraudubon.org/event/swift-night-out-vauxs-swifts-in-selleck-wa-2/
LOCATION:Washington
CATEGORIES:Fieldtrips
ATTACH;FMTTYPE=image/jpeg:https://rainieraudubon.org/wp-content/uploads/2022/05/Selleck-School-1.jpg
END:VEVENT
END:VCALENDAR