BEGIN:VCALENDAR
VERSION:2.0
PRODID:-//RAINIER AUDUBON SOCIETY - ECPv6.15.20//NONSGML v1.0//EN
CALSCALE:GREGORIAN
METHOD:PUBLISH
X-WR-CALNAME:RAINIER AUDUBON SOCIETY
X-ORIGINAL-URL:https://rainieraudubon.org
X-WR-CALDESC:Events for RAINIER AUDUBON SOCIETY
REFRESH-INTERVAL;VALUE=DURATION:PT1H
X-Robots-Tag:noindex
X-PUBLISHED-TTL:PT1H
BEGIN:VTIMEZONE
TZID:America/Los_Angeles
BEGIN:DAYLIGHT
TZOFFSETFROM:-0800
TZOFFSETTO:-0700
TZNAME:PDT
DTSTART:20230312T100000
END:DAYLIGHT
BEGIN:STANDARD
TZOFFSETFROM:-0700
TZOFFSETTO:-0800
TZNAME:PST
DTSTART:20231105T090000
END:STANDARD
BEGIN:DAYLIGHT
TZOFFSETFROM:-0800
TZOFFSETTO:-0700
TZNAME:PDT
DTSTART:20240310T100000
END:DAYLIGHT
BEGIN:STANDARD
TZOFFSETFROM:-0700
TZOFFSETTO:-0800
TZNAME:PST
DTSTART:20241103T090000
END:STANDARD
BEGIN:DAYLIGHT
TZOFFSETFROM:-0800
TZOFFSETTO:-0700
TZNAME:PDT
DTSTART:20250309T100000
END:DAYLIGHT
BEGIN:STANDARD
TZOFFSETFROM:-0700
TZOFFSETTO:-0800
TZNAME:PST
DTSTART:20251102T090000
END:STANDARD
END:VTIMEZONE
BEGIN:VEVENT
DTSTART;TZID=America/Los_Angeles:20240602T080000
DTEND;TZID=America/Los_Angeles:20240602T120000
DTSTAMP:20260424T094313
CREATED:20240304T022233Z
LAST-MODIFIED:20240304T022238Z
UID:10003112-1717315200-1717329600@rainieraudubon.org
SUMMARY:Green Valley in Early Summer
DESCRIPTION:Leader: Steve Johnson \n\n\n\nIn June\, the migrant birds should be singing on their territory near Auburn and in the beautiful Green Valley east of Auburn. We’ll visit Academy Drive\, Green Valley Road\, and Flaming Geyser State Park. We may see and hear warblers\, thrushes\, vireos\, Red-breasted Sapsuckers\, Virginia Rail\, flycatchers\, and more. We may walk up to 2 miles on trails and roads. \n\n\n\nPeople who bring their own cars\, and want to leave early may do so. \n\n\n\nBring: Lunch\, snacks\, drinks\, hiking \n\n\n\nshoes. Scopes welcome. \n\n\n\nMeet: Auburn Safeway at Auburn Ave & Main at 8:00 AM. \n\n\n\nDirections: Take Hwy 18 to Auburn\, and exit at Auburn Ave (Hwy 164). Turn north exit at Auburn Ave (Hwy 164). Turn north (right) on Auburn Way and drive 3 \n\n\n\nblocks north. Safeway sign and gas station is on the left. Park in the lot just beyond the gas station straight out from the right entry door at Safeway at 8:00 am. \n\n\n\nSign-up: Call or email Steve Johnson\, \n\n\n\n253- 941-9852. johnsonsj5@msn.com
URL:https://rainieraudubon.org/event/green-valley-in-early-summer-2/
LOCATION:Washington
CATEGORIES:Fieldtrips
ATTACH;FMTTYPE=image/jpeg:https://rainieraudubon.org/wp-content/uploads/2024/03/50014223103_d987cf6a1e_c.jpg
END:VEVENT
BEGIN:VEVENT
DTSTART;TZID=America/Los_Angeles:20240608T090000
DTEND;TZID=America/Los_Angeles:20240608T160000
DTSTAMP:20260424T094313
CREATED:20240111T234024Z
LAST-MODIFIED:20240312T030008Z
UID:10003096-1717837200-1717862400@rainieraudubon.org
SUMMARY:Rainier Audubon Nature Festival 2024
DESCRIPTION:Free Pass Day at Flaming Geyser!\n\n\n\n\n\n\n\nBirding and nature walks. \n\n\n\nBest Trails in Flaming Geyser State Parkhttps://www.alltrails.com/parks/us/washington/flaming-geyser-state-park \n\n\n\nMore information coming soon.
URL:https://rainieraudubon.org/event/flaming-geyser-bird-fest-2024/
LOCATION:Flaming Geyser State Park\, 23700 SE Flaming Geyser Rd\, Auburn\, Washington\, 98092\, United States
CATEGORIES:Bird Festivals,Fieldtrips
ATTACH;FMTTYPE=image/jpeg:https://rainieraudubon.org/wp-content/uploads/2024/01/7Q0A8071-copy-3.jpg
END:VEVENT
BEGIN:VEVENT
DTSTART;TZID=America/Los_Angeles:20240618T080000
DTEND;TZID=America/Los_Angeles:20240618T160000
DTSTAMP:20260424T094313
CREATED:20240411T173956Z
LAST-MODIFIED:20240411T174002Z
UID:10003115-1718697600-1718726400@rainieraudubon.org
SUMMARY:Exploring the foothills near North Bend
DESCRIPTION:With Roger Orness \n\n\n\n\n\n\n\n\n\nJoin popular leader and avid birder Roger Orness on a trip exploring the foothills near North Bend.  Target species will be Peregrine Falcons\, but there are sure to be many other species to enjoy. \n\n\n\nTrip limited to 11 People \n\n\n\nSign up with Roger at 253-312-6561
URL:https://rainieraudubon.org/event/exploring-the-foothills-near-north-bend/
LOCATION:Washington
CATEGORIES:Fieldtrips
ATTACH;FMTTYPE=image/jpeg:https://rainieraudubon.org/wp-content/uploads/2024/04/37093926562_dd3d0193e2_c.jpg
END:VEVENT
END:VCALENDAR