BEGIN:VCALENDAR
VERSION:2.0
PRODID:-//RAINIER AUDUBON SOCIETY - ECPv6.15.20//NONSGML v1.0//EN
CALSCALE:GREGORIAN
METHOD:PUBLISH
X-WR-CALNAME:RAINIER AUDUBON SOCIETY
X-ORIGINAL-URL:https://rainieraudubon.org
X-WR-CALDESC:Events for RAINIER AUDUBON SOCIETY
REFRESH-INTERVAL;VALUE=DURATION:PT1H
X-Robots-Tag:noindex
X-PUBLISHED-TTL:PT1H
BEGIN:VTIMEZONE
TZID:America/Los_Angeles
BEGIN:DAYLIGHT
TZOFFSETFROM:-0800
TZOFFSETTO:-0700
TZNAME:PDT
DTSTART:20240310T100000
END:DAYLIGHT
BEGIN:STANDARD
TZOFFSETFROM:-0700
TZOFFSETTO:-0800
TZNAME:PST
DTSTART:20241103T090000
END:STANDARD
BEGIN:DAYLIGHT
TZOFFSETFROM:-0800
TZOFFSETTO:-0700
TZNAME:PDT
DTSTART:20250309T100000
END:DAYLIGHT
BEGIN:STANDARD
TZOFFSETFROM:-0700
TZOFFSETTO:-0800
TZNAME:PST
DTSTART:20251102T090000
END:STANDARD
BEGIN:DAYLIGHT
TZOFFSETFROM:-0800
TZOFFSETTO:-0700
TZNAME:PDT
DTSTART:20260308T100000
END:DAYLIGHT
BEGIN:STANDARD
TZOFFSETFROM:-0700
TZOFFSETTO:-0800
TZNAME:PST
DTSTART:20261101T090000
END:STANDARD
END:VTIMEZONE
BEGIN:VEVENT
DTSTART;TZID=America/Los_Angeles:20250222T090000
DTEND;TZID=America/Los_Angeles:20250222T120000
DTSTAMP:20260424T001020
CREATED:20250122T013013Z
LAST-MODIFIED:20250122T013017Z
UID:10003152-1740214800-1740225600@rainieraudubon.org
SUMMARY:Winter Birdwatching Walk at Lake Fenwick and The Old Fishing Hole
DESCRIPTION:Leader: Barbara Petersen \n\n\n\nPlease join us for a slow-paced walk around Lake Fenwick to watch wintering waterfowl and woodland birds. We’ll meet (rain or shine) in the middle parking lot on Lake Fenwick Rd at 9:00 AM. That’s the second parking lot you’ll find from either direction. Come outside with us for this opportunity to use birding skills\, and maybe add new skills\, as we identify species on the water and in the trees and shrubs by sight and by sound. The more eyes and ears the better as we collaborate to find out who lives here during late fall and winter. \n\n\n\nIf time allows\, we’ll move on to Kent’s Old Fishing Hole\, which is a short drive away. It is also an easy walk on the trail around the pond. A variety of waterfowls\, passerines\, and occasional wetland birds use this location. Let’s see what species we find foraging in the fishing hole and surrounding habitat in late fall. We’ll wrap up around noon. Several layers of clothing are suggested to adjust to the weather\, and snacks or hot beverages as needed. \n\n\n\nTo sign up email Barbara Petersen at bpbatfan@aol.com\, leave a voice message at 253 389 3204\, or just join us that morning. All are welcome.
URL:https://rainieraudubon.org/event/winter-birdwatching-walk-at-lake-fenwick-and-the-old-fishing-hole/
LOCATION:Washington
CATEGORIES:Fieldtrips
ATTACH;FMTTYPE=image/webp:https://rainieraudubon.org/wp-content/uploads/2025/01/52887400143_31169d51bb_c.webp
END:VEVENT
END:VCALENDAR