BEGIN:VCALENDAR
VERSION:2.0
PRODID:-//RAINIER AUDUBON SOCIETY - ECPv6.15.20//NONSGML v1.0//EN
CALSCALE:GREGORIAN
METHOD:PUBLISH
X-WR-CALNAME:RAINIER AUDUBON SOCIETY
X-ORIGINAL-URL:https://rainieraudubon.org
X-WR-CALDESC:Events for RAINIER AUDUBON SOCIETY
REFRESH-INTERVAL;VALUE=DURATION:PT1H
X-Robots-Tag:noindex
X-PUBLISHED-TTL:PT1H
BEGIN:VTIMEZONE
TZID:America/Los_Angeles
BEGIN:DAYLIGHT
TZOFFSETFROM:-0800
TZOFFSETTO:-0700
TZNAME:PDT
DTSTART:20240310T100000
END:DAYLIGHT
BEGIN:STANDARD
TZOFFSETFROM:-0700
TZOFFSETTO:-0800
TZNAME:PST
DTSTART:20241103T090000
END:STANDARD
BEGIN:DAYLIGHT
TZOFFSETFROM:-0800
TZOFFSETTO:-0700
TZNAME:PDT
DTSTART:20250309T100000
END:DAYLIGHT
BEGIN:STANDARD
TZOFFSETFROM:-0700
TZOFFSETTO:-0800
TZNAME:PST
DTSTART:20251102T090000
END:STANDARD
BEGIN:DAYLIGHT
TZOFFSETFROM:-0800
TZOFFSETTO:-0700
TZNAME:PDT
DTSTART:20260308T100000
END:DAYLIGHT
BEGIN:STANDARD
TZOFFSETFROM:-0700
TZOFFSETTO:-0800
TZNAME:PST
DTSTART:20261101T090000
END:STANDARD
END:VTIMEZONE
BEGIN:VEVENT
DTSTART;TZID=America/Los_Angeles:20250912T180000
DTEND;TZID=America/Los_Angeles:20250912T203000
DTSTAMP:20260423T165152
CREATED:20250828T194739Z
LAST-MODIFIED:20250828T200607Z
UID:10003162-1757700000-1757709000@rainieraudubon.org
SUMMARY:Swift Night Out – Vaux’s Swifts in Selleck\, WA
DESCRIPTION:Backup Date: Friday\, September 19 @ 6:00 pm – 8:30 pmLeaders: Dolly Owen\, Ken SchroederJoin us for a “Swift Night Out” in the small town of Selleck\, WA to see the amazing Vaux’s swifts return for the evening to their brick-chimney\, communal roost site. Each May\, thousands of migrating Vaux’s Swifts stop off for a well-deserved rest on their long journey to northern Canada. While the number of Swift’s returning to this site is weather dependent\, and can vary from day-to-day\, we expect to see hundreds or even thousands of birds after sunset. We meet in Covington and carpool to Selleck to minimize our impact on this small community. Participants can also meet in Selleck. In case of rain\, we will reschedule the outing to the following week. See the links below for more details.Meet:6:00 pm at Fred Meyer’s North Parking Lot\, Covington\, 16735 SE 272nd St\, Covington\, WA 98042Directions: We will meet in the north parking lot of Fred Meyers’s in Covington. This is the same shopping center for the Covington Costco. From HWY 18 take the WA-516/SE 272nd ST exit toward Covington. This street is also called Kent-Kangley Road. Just east of the bridge there is a Wendy’s on the right. Either turn right at Wendy’s or at the next stoplight at 168 th PL SE. Find us close to the restaurant parking lot\, near Fred Meyer’s.Bring: Snacks\, drinks\, lawn chair\, and a warm jacket. Binoculars are optional.Access: Easy access with no walking required. Bring along your lawn chair for comfortable viewing.Sign-up: Call or email Ken Schroeder to sign-up or for more information.kenschroeder@msn.com 253-939-7470More Information:https://rainieraudubon.org/advocacy/couting-vauxs-swifts-at-the-selleck-schoolhouse/https://www.vauxhappening.org/ \n\n\n\n\nSelleck Schoolhouse Chimney
URL:https://rainieraudubon.org/event/swift-night-out-vauxs-swifts-in-selleck-wa-5/
LOCATION:Washington
CATEGORIES:Fieldtrips
ATTACH;FMTTYPE=image/jpeg:https://rainieraudubon.org/wp-content/uploads/2022/05/Vauxs-Swift-Image-e1692757346449.jpg
END:VEVENT
END:VCALENDAR