BEGIN:VCALENDAR
VERSION:2.0
PRODID:-//RAINIER AUDUBON SOCIETY - ECPv6.15.20//NONSGML v1.0//EN
CALSCALE:GREGORIAN
METHOD:PUBLISH
X-ORIGINAL-URL:https://rainieraudubon.org
X-WR-CALDESC:Events for RAINIER AUDUBON SOCIETY
REFRESH-INTERVAL;VALUE=DURATION:PT1H
X-Robots-Tag:noindex
X-PUBLISHED-TTL:PT1H
BEGIN:VTIMEZONE
TZID:America/Los_Angeles
BEGIN:DAYLIGHT
TZOFFSETFROM:-0800
TZOFFSETTO:-0700
TZNAME:PDT
DTSTART:20240310T100000
END:DAYLIGHT
BEGIN:STANDARD
TZOFFSETFROM:-0700
TZOFFSETTO:-0800
TZNAME:PST
DTSTART:20241103T090000
END:STANDARD
BEGIN:DAYLIGHT
TZOFFSETFROM:-0800
TZOFFSETTO:-0700
TZNAME:PDT
DTSTART:20250309T100000
END:DAYLIGHT
BEGIN:STANDARD
TZOFFSETFROM:-0700
TZOFFSETTO:-0800
TZNAME:PST
DTSTART:20251102T090000
END:STANDARD
BEGIN:DAYLIGHT
TZOFFSETFROM:-0800
TZOFFSETTO:-0700
TZNAME:PDT
DTSTART:20260308T100000
END:DAYLIGHT
BEGIN:STANDARD
TZOFFSETFROM:-0700
TZOFFSETTO:-0800
TZNAME:PST
DTSTART:20261101T090000
END:STANDARD
END:VTIMEZONE
BEGIN:VEVENT
DTSTART;TZID=America/Los_Angeles:20251129T090000
DTEND;TZID=America/Los_Angeles:20251129T120000
DTSTAMP:20260423T142736
CREATED:20250903T145520Z
LAST-MODIFIED:20251021T050501Z
UID:10003164-1764406800-1764417600@rainieraudubon.org
SUMMARY:Clark Lake Park - Half Day bird walk with Barbara Petersen and Steve Johnson
DESCRIPTION:Barbara Petersen and Steve Johnson will lead a bird walk for a fall exploration of Clark Lake Park the Saturday after Thanksgiving. The park offers a variety of habitat types and bird species. Follow trails to the lake and through forest\, wetland\, meadow and even an old orchard. We’ll walk one or two miles at a leisurely place searching for waterfowl\, raptors and autumn passerines. Bring binoculars\, spotting scopes\, cameras\, warm layers\, water and snacks.Meet: Join us at Clark Lake Park at 12520 SE 240th St. in Kent at 9:00 AM \n\n\n\n	Currently RegisteredMicah Ruoff Judi Payseno Heather Gibson Barbara Petersen Janie Ruoff Lisa Giannini Jill Gorgen Attendance: 7 / 12	\n		\n\n	Only 5 spots left 	\n\n	\n\n		\n		\n		\n		\n			\n			\n	\n\n		First*\n		\n				\n						\n\n\n\n		Last*\n		\n				\n						\n\n\n\n		Email*\n		\n				\n						\n\n\n\n		Phone*\n		\n				\n						\n\n\n\n		\n					\n				I have read and agree to the terms of this release and indemnity agreement in its entirety.*\n			\n					Terms and Conditions Page			\n\n\n\n		CAPTCHA – What is 4 + 4*\n		\n				\n						\n\n\n		\n\n		\n			Comments\n			\n				\n				If you are a human\, do not fill in this field \n			\n		\n\n		\n			\n		\n\n	\n\n	\n			\n\n\n		\n			Already registered?\n			Already registered? \n\n			\n				Use this tool to manage your registration. \n				\n\n					\n						\n							Enter your registered email address*
URL:https://rainieraudubon.org/event/clark-lake-park-half-day-bird-walk-with-barbara-petersen-and-steve-johnson-2/
LOCATION:Clark Lake Park\, 12520 SE 240th St\,\, Kent\, Washington\, 98031\, United States
CATEGORIES:Fieldtrips
ATTACH;FMTTYPE=image/jpeg:https://rainieraudubon.org/wp-content/uploads/2025/04/250420-046-2-Enhanced-NR.jpg
END:VEVENT
END:VCALENDAR