BEGIN:VCALENDAR
VERSION:2.0
PRODID:-//RAINIER AUDUBON SOCIETY - ECPv6.15.20//NONSGML v1.0//EN
CALSCALE:GREGORIAN
METHOD:PUBLISH
X-ORIGINAL-URL:https://rainieraudubon.org
X-WR-CALDESC:Events for RAINIER AUDUBON SOCIETY
REFRESH-INTERVAL;VALUE=DURATION:PT1H
X-Robots-Tag:noindex
X-PUBLISHED-TTL:PT1H
BEGIN:VTIMEZONE
TZID:America/Los_Angeles
BEGIN:DAYLIGHT
TZOFFSETFROM:-0800
TZOFFSETTO:-0700
TZNAME:PDT
DTSTART:20250309T100000
END:DAYLIGHT
BEGIN:STANDARD
TZOFFSETFROM:-0700
TZOFFSETTO:-0800
TZNAME:PST
DTSTART:20251102T090000
END:STANDARD
BEGIN:DAYLIGHT
TZOFFSETFROM:-0800
TZOFFSETTO:-0700
TZNAME:PDT
DTSTART:20260308T100000
END:DAYLIGHT
BEGIN:STANDARD
TZOFFSETFROM:-0700
TZOFFSETTO:-0800
TZNAME:PST
DTSTART:20261101T090000
END:STANDARD
BEGIN:DAYLIGHT
TZOFFSETFROM:-0800
TZOFFSETTO:-0700
TZNAME:PDT
DTSTART:20270314T100000
END:DAYLIGHT
BEGIN:STANDARD
TZOFFSETFROM:-0700
TZOFFSETTO:-0800
TZNAME:PST
DTSTART:20271107T090000
END:STANDARD
END:VTIMEZONE
BEGIN:VEVENT
DTSTART;TZID=America/Los_Angeles:20260117T073000
DTEND;TZID=America/Los_Angeles:20260117T170000
DTSTAMP:20260423T115229
CREATED:20251119T030109Z
LAST-MODIFIED:20251230T164636Z
UID:10003176-1768635000-1768669200@rainieraudubon.org
SUMMARY:Skagit Valley field trip
DESCRIPTION:Join Rainier Audubon for a trip north to visit the Skagit Valley. Species we see include Bald Eagle\, SnowGeese\, and American Wigeon\, we sometimes see Northern Harrier\, Northern Pintail\, Green-winged Teal\, Kestrel and shore birds. This trip would for suitable for those with differing abilities\, since a lot of thebirding can be done from the car.Bring: Lunch\, beverages\, and warm clothes. A scope is very welcome.Meet: January 17\, 2026 at 7:30 AM at Kent Station\, near Panera Bread. Park in the lot or nearby parkinggarage.521 2nd Pl N Suite 101\, Kent\, WA 98032https://goo.gl/maps/ATtKwd8aNCzx946T8 \n\n\n\n	Currently RegisteredMicah Ruoff Judi Payseno Heather Gibson Barbara Petersen Janie Ruoff Lisa Giannini Jill Gorgen Attendance: 7 / 12	\n		\n\n	Only 5 spots left 	\n\n	\n\n		\n		\n		\n		\n			\n			\n	\n\n		First*\n		\n				\n						\n\n\n\n		Last*\n		\n				\n						\n\n\n\n		Email*\n		\n				\n						\n\n\n\n		Phone*\n		\n				\n						\n\n\n\n		\n					\n				I have read and agree to the terms of this release and indemnity agreement in its entirety.*\n			\n					Terms and Conditions Page			\n\n\n\n		CAPTCHA – What is 2 + 3*\n		\n				\n						\n\n\n		\n\n		\n			Comments\n			\n				\n				If you are a human\, do not fill in this field \n			\n		\n\n		\n			\n		\n\n	\n\n	\n			\n\n\n		\n			Already registered?\n			Already registered? \n\n			\n				Use this tool to manage your registration. \n				\n\n					\n						\n							Enter your registered email address*
URL:https://rainieraudubon.org/event/skagit-valley-field-trip-3/
LOCATION:Washington
CATEGORIES:Fieldtrips
ATTACH;FMTTYPE=image/jpeg:https://rainieraudubon.org/wp-content/uploads/2025/11/39718717344_4c5bf6fa2f_c.jpg
END:VEVENT
END:VCALENDAR