BEGIN:VCALENDAR
VERSION:2.0
PRODID:-//RAINIER AUDUBON SOCIETY - ECPv6.15.20//NONSGML v1.0//EN
CALSCALE:GREGORIAN
METHOD:PUBLISH
X-ORIGINAL-URL:https://rainieraudubon.org
X-WR-CALDESC:Events for RAINIER AUDUBON SOCIETY
REFRESH-INTERVAL;VALUE=DURATION:PT1H
X-Robots-Tag:noindex
X-PUBLISHED-TTL:PT1H
BEGIN:VTIMEZONE
TZID:America/Los_Angeles
BEGIN:DAYLIGHT
TZOFFSETFROM:-0800
TZOFFSETTO:-0700
TZNAME:PDT
DTSTART:20240310T100000
END:DAYLIGHT
BEGIN:STANDARD
TZOFFSETFROM:-0700
TZOFFSETTO:-0800
TZNAME:PST
DTSTART:20241103T090000
END:STANDARD
BEGIN:DAYLIGHT
TZOFFSETFROM:-0800
TZOFFSETTO:-0700
TZNAME:PDT
DTSTART:20250309T100000
END:DAYLIGHT
BEGIN:STANDARD
TZOFFSETFROM:-0700
TZOFFSETTO:-0800
TZNAME:PST
DTSTART:20251102T090000
END:STANDARD
BEGIN:DAYLIGHT
TZOFFSETFROM:-0800
TZOFFSETTO:-0700
TZNAME:PDT
DTSTART:20260308T100000
END:DAYLIGHT
BEGIN:STANDARD
TZOFFSETFROM:-0700
TZOFFSETTO:-0800
TZNAME:PST
DTSTART:20261101T090000
END:STANDARD
END:VTIMEZONE
BEGIN:VEVENT
DTSTART;TZID=America/Los_Angeles:20250426T090000
DTEND;TZID=America/Los_Angeles:20250426T110000
DTSTAMP:20260423T230941
CREATED:20241017T213421Z
LAST-MODIFIED:20250410T175758Z
UID:10003131-1745658000-1745665200@rainieraudubon.org
SUMMARY:In-person Nature Journaling Outing - Auburn Westhill Watershed Forest
DESCRIPTION:CANCELLED\n\n\n\nTo register for in-person outings\, please email Cindy atcindy.flanagan.nature.studio@gmail.com
URL:https://rainieraudubon.org/event/in-person-nature-journaling-outing-auburn-westhill-watershed-forest/
CATEGORIES:Nature Journaling
ATTACH;FMTTYPE=image/jpeg:https://rainieraudubon.org/wp-content/uploads/2024/11/Douglas-Fir-Cone-Study-NJ-Page.jpg
END:VEVENT
BEGIN:VEVENT
DTSTART;TZID=America/Los_Angeles:20250427T150000
DTEND;TZID=America/Los_Angeles:20250427T170000
DTSTAMP:20260423T230941
CREATED:20241017T215812Z
LAST-MODIFIED:20250410T175631Z
UID:10003136-1745766000-1745773200@rainieraudubon.org
SUMMARY:Nature Journaling Zoom Meeting
DESCRIPTION:Cancelled
URL:https://rainieraudubon.org/event/nature-journaling-zoom-meeting-6/
CATEGORIES:Nature Journaling
ATTACH;FMTTYPE=image/jpeg:https://rainieraudubon.org/wp-content/uploads/2024/11/Douglas-Fir-Cone-Study-NJ-Page.jpg
END:VEVENT
END:VCALENDAR