BEGIN:VCALENDAR
VERSION:2.0
PRODID:-//RAINIER AUDUBON SOCIETY - ECPv6.15.20//NONSGML v1.0//EN
CALSCALE:GREGORIAN
METHOD:PUBLISH
X-WR-CALNAME:RAINIER AUDUBON SOCIETY
X-ORIGINAL-URL:https://rainieraudubon.org
X-WR-CALDESC:Events for RAINIER AUDUBON SOCIETY
REFRESH-INTERVAL;VALUE=DURATION:PT1H
X-Robots-Tag:noindex
X-PUBLISHED-TTL:PT1H
BEGIN:VTIMEZONE
TZID:America/Los_Angeles
BEGIN:DAYLIGHT
TZOFFSETFROM:-0800
TZOFFSETTO:-0700
TZNAME:PDT
DTSTART:20220313T100000
END:DAYLIGHT
BEGIN:STANDARD
TZOFFSETFROM:-0700
TZOFFSETTO:-0800
TZNAME:PST
DTSTART:20221106T090000
END:STANDARD
BEGIN:DAYLIGHT
TZOFFSETFROM:-0800
TZOFFSETTO:-0700
TZNAME:PDT
DTSTART:20230312T100000
END:DAYLIGHT
BEGIN:STANDARD
TZOFFSETFROM:-0700
TZOFFSETTO:-0800
TZNAME:PST
DTSTART:20231105T090000
END:STANDARD
BEGIN:DAYLIGHT
TZOFFSETFROM:-0800
TZOFFSETTO:-0700
TZNAME:PDT
DTSTART:20240310T100000
END:DAYLIGHT
BEGIN:STANDARD
TZOFFSETFROM:-0700
TZOFFSETTO:-0800
TZNAME:PST
DTSTART:20241103T090000
END:STANDARD
END:VTIMEZONE
BEGIN:VEVENT
DTSTART;TZID=America/Los_Angeles:20231218T190000
DTEND;TZID=America/Los_Angeles:20231218T203000
DTSTAMP:20260424T180414
CREATED:20230819T195931Z
LAST-MODIFIED:20231129T010451Z
UID:10001233-1702926000-1702931400@rainieraudubon.org
SUMMARY:Wildlife Rehabilitation and Falconry in Washington
DESCRIPTION:by Jen Mannas \n\n\n\n\n\n\n\n\n\n\n\n\n\n\n\nJen Mannas is a Wildlife Biologist for Washington Department of Fish and Wildlife\, who oversees two statewide programs: Wildlife Rehabilitation and Falconry. She has a master’s degree in Wildlife Management from Montana State University and has been in the Wildlife Biology field for almost 20 years. \n\n\n\nJen has had the privilege to work with mammalian and avian species across the United States and in Antarctica\, including marine mammals\, wolves\, mountain lions\, raptors like the California Condor\, seabirds including Brush-tailed Penguins\, and miscellaneous waterfowl.  \n\n\n\nShe has been involved with wildlife rehabilitation throughout her career\, including the PAWS Wildlife Center and SR3\, Washington’s first rehabilitation program specializing in marine mammal care. Her job duties include permitting wildlife rehabilitators and falconers\, helping permittees stay in compliance\, and spreading the word about both programs.
URL:https://rainieraudubon.org/event/wildlife-rehabilitation-and-falconry/
LOCATION:Federal Way United Methodist Church\, 29645 51st Ave SWA 98001\, Auburn\, Washington\, 98001\, United States
CATEGORIES:Monthly Program Night
ATTACH;FMTTYPE=image/jpeg:https://rainieraudubon.org/wp-content/uploads/2023/08/Jen-and-owl.jpg
END:VEVENT
END:VCALENDAR