BEGIN:VCALENDAR
VERSION:2.0
PRODID:-//RAINIER AUDUBON SOCIETY - ECPv6.15.20//NONSGML v1.0//EN
CALSCALE:GREGORIAN
METHOD:PUBLISH
X-WR-CALNAME:RAINIER AUDUBON SOCIETY
X-ORIGINAL-URL:https://rainieraudubon.org
X-WR-CALDESC:Events for RAINIER AUDUBON SOCIETY
REFRESH-INTERVAL;VALUE=DURATION:PT1H
X-Robots-Tag:noindex
X-PUBLISHED-TTL:PT1H
BEGIN:VTIMEZONE
TZID:America/Los_Angeles
BEGIN:DAYLIGHT
TZOFFSETFROM:-0800
TZOFFSETTO:-0700
TZNAME:PDT
DTSTART:20230312T100000
END:DAYLIGHT
BEGIN:STANDARD
TZOFFSETFROM:-0700
TZOFFSETTO:-0800
TZNAME:PST
DTSTART:20231105T090000
END:STANDARD
BEGIN:DAYLIGHT
TZOFFSETFROM:-0800
TZOFFSETTO:-0700
TZNAME:PDT
DTSTART:20240310T100000
END:DAYLIGHT
BEGIN:STANDARD
TZOFFSETFROM:-0700
TZOFFSETTO:-0800
TZNAME:PST
DTSTART:20241103T090000
END:STANDARD
BEGIN:DAYLIGHT
TZOFFSETFROM:-0800
TZOFFSETTO:-0700
TZNAME:PDT
DTSTART:20250309T100000
END:DAYLIGHT
BEGIN:STANDARD
TZOFFSETFROM:-0700
TZOFFSETTO:-0800
TZNAME:PST
DTSTART:20251102T090000
END:STANDARD
END:VTIMEZONE
BEGIN:VEVENT
DTSTART;TZID=America/Los_Angeles:20240318T190000
DTEND;TZID=America/Los_Angeles:20240318T200000
DTSTAMP:20260424T142425
CREATED:20240216T050417Z
LAST-MODIFIED:20240216T051525Z
UID:10003110-1710788400-1710792000@rainieraudubon.org
SUMMARY:Birding Close To Home
DESCRIPTION:by Dave Cowell \n\n\n\n\n\nGreat-Horned owl fledgling\n\n\n\nWe are fortunate to live in a very bird rich area. From the mountains to the coast\, we can find birds filling a totally different niche all within the the same day. We are spoiled with choice.  In this presentation\, I’ll share some of the birds I’ve seen and images I’ve made in western Washington since picking up my first digital camera 20 years ago. \n\n\n\nYellow-Rumped (Audubon’s) Warbler\n\n\n\nAs a child I spent much of my time exploring the woods and stream that ran behind our Upstate New York home. The time spent in those woods and on that little stream instilled in me a lifelong appreciation for wild spaces. Photography builds on that appreciation and has helped me further my understanding of birds lives. It has fed my soul and provided an outlet to help balance a sometimes confusing and chaotic daily life.  The challenge of trying to create nice images of wildlife living their daily life is my goal. I’m grateful for the chance to share images and experiences in the field with like minded people who love and respect these birds and their natural places.
URL:https://rainieraudubon.org/event/birding-close-to-home/
CATEGORIES:Monthly Program Night
ATTACH;FMTTYPE=image/jpeg:https://rainieraudubon.org/wp-content/uploads/2024/02/DSC_9476.jpg
END:VEVENT
END:VCALENDAR