BEGIN:VCALENDAR
VERSION:2.0
PRODID:-//RAINIER AUDUBON SOCIETY - ECPv6.15.20//NONSGML v1.0//EN
CALSCALE:GREGORIAN
METHOD:PUBLISH
X-WR-CALNAME:RAINIER AUDUBON SOCIETY
X-ORIGINAL-URL:https://rainieraudubon.org
X-WR-CALDESC:Events for RAINIER AUDUBON SOCIETY
REFRESH-INTERVAL;VALUE=DURATION:PT1H
X-Robots-Tag:noindex
X-PUBLISHED-TTL:PT1H
BEGIN:VTIMEZONE
TZID:America/Los_Angeles
BEGIN:DAYLIGHT
TZOFFSETFROM:-0800
TZOFFSETTO:-0700
TZNAME:PDT
DTSTART:20230312T100000
END:DAYLIGHT
BEGIN:STANDARD
TZOFFSETFROM:-0700
TZOFFSETTO:-0800
TZNAME:PST
DTSTART:20231105T090000
END:STANDARD
BEGIN:DAYLIGHT
TZOFFSETFROM:-0800
TZOFFSETTO:-0700
TZNAME:PDT
DTSTART:20240310T100000
END:DAYLIGHT
BEGIN:STANDARD
TZOFFSETFROM:-0700
TZOFFSETTO:-0800
TZNAME:PST
DTSTART:20241103T090000
END:STANDARD
BEGIN:DAYLIGHT
TZOFFSETFROM:-0800
TZOFFSETTO:-0700
TZNAME:PDT
DTSTART:20250309T100000
END:DAYLIGHT
BEGIN:STANDARD
TZOFFSETFROM:-0700
TZOFFSETTO:-0800
TZNAME:PST
DTSTART:20251102T090000
END:STANDARD
END:VTIMEZONE
BEGIN:VEVENT
DTSTART;TZID=America/Los_Angeles:20240415T190000
DTEND;TZID=America/Los_Angeles:20240415T200000
DTSTAMP:20260424T130400
CREATED:20231129T001010Z
LAST-MODIFIED:20240415T150207Z
UID:10003095-1713207600-1713211200@rainieraudubon.org
SUMMARY:Do Crows Have Language?
DESCRIPTION:by Douglas Wacker \n\n\n\n\n\n\nCrows – by Bri McCloskey.\n\n\n\nCrow – by Bri McCloskey.\n\n\n\n\nHumans are fascinated by crows because they share many of our characteristics. They’re smart\, social\, and make a variety of vocalizations. However\, do they have a language like humans? In this talk\, we’ll explore some past work on crow vocal communication\, language in general\, and recent Corvid research conducted with undergraduates at the University of Washington Bothell. We’ll discuss what some of those caws might mean and talk about how we’re starting to address the question of whether crows have something akin to language. \n\n\n\nDoug Wacker (by Kim Walker)\n\n\n\nDr. Doug Wacker is an Associate Professor of Animal Behavior at the University of Washington Bothell\, where he works with undergraduates studying crow and raven  social behavior and communication. He has studied a local communal roost of ~16\,000 American Crows on the Bothell campus since 2012. He lives in Lake Forest Park\, Washington with his two children\, Eilidh and Delphinia\, his wife Kim\, and two indoor-only cats.
URL:https://rainieraudubon.org/event/do-crows-have-language/
CATEGORIES:Monthly Program Night
ATTACH;FMTTYPE=image/jpeg:https://rainieraudubon.org/wp-content/uploads/2024/03/thumbnail_image002.jpg
END:VEVENT
END:VCALENDAR