BEGIN:VCALENDAR
VERSION:2.0
PRODID:-//RAINIER AUDUBON SOCIETY - ECPv6.15.20//NONSGML v1.0//EN
CALSCALE:GREGORIAN
METHOD:PUBLISH
X-ORIGINAL-URL:https://rainieraudubon.org
X-WR-CALDESC:Events for RAINIER AUDUBON SOCIETY
REFRESH-INTERVAL;VALUE=DURATION:PT1H
X-Robots-Tag:noindex
X-PUBLISHED-TTL:PT1H
BEGIN:VTIMEZONE
TZID:America/Los_Angeles
BEGIN:DAYLIGHT
TZOFFSETFROM:-0800
TZOFFSETTO:-0700
TZNAME:PDT
DTSTART:20240310T100000
END:DAYLIGHT
BEGIN:STANDARD
TZOFFSETFROM:-0700
TZOFFSETTO:-0800
TZNAME:PST
DTSTART:20241103T090000
END:STANDARD
BEGIN:DAYLIGHT
TZOFFSETFROM:-0800
TZOFFSETTO:-0700
TZNAME:PDT
DTSTART:20250309T100000
END:DAYLIGHT
BEGIN:STANDARD
TZOFFSETFROM:-0700
TZOFFSETTO:-0800
TZNAME:PST
DTSTART:20251102T090000
END:STANDARD
BEGIN:DAYLIGHT
TZOFFSETFROM:-0800
TZOFFSETTO:-0700
TZNAME:PDT
DTSTART:20260308T100000
END:DAYLIGHT
BEGIN:STANDARD
TZOFFSETFROM:-0700
TZOFFSETTO:-0800
TZNAME:PST
DTSTART:20261101T090000
END:STANDARD
END:VTIMEZONE
BEGIN:VEVENT
DTSTART;TZID=America/Los_Angeles:20250317T190000
DTEND;TZID=America/Los_Angeles:20250317T200000
DTSTAMP:20260423T235306
CREATED:20241027T165752Z
LAST-MODIFIED:20250226T011944Z
UID:10003141-1742238000-1742241600@rainieraudubon.org
SUMMARY:Bird Photography Tips for Beginners
DESCRIPTION:by Dave Cowell \n\n\n\nThere are more folks than ever photographing birds these days. Many of them with expensive cameras and big lenses. This talk isn’t geared for them.   \n\n\n\n\n\n\n\nIn this presentation I’ll cover some photography basics that apply to all types of cameras and discuss some of the advantages and disadvantages of photographing birds with a point and shoot versus a single lens reflex or mirrorless cameras. I’ll also cover how to best set your camera up for success in different scenarios you might find yourself in and some different “rules” when it comes to composition. 
URL:https://rainieraudubon.org/event/malheur-nwr/
LOCATION:Federal Way United Methodist Church\, 29645 51st Ave SW\, Auburn\, 98001\, 98001\, United States
CATEGORIES:Monthly Program Night
ATTACH;FMTTYPE=image/jpeg:https://rainieraudubon.org/wp-content/uploads/2024/10/March-25.jpg
END:VEVENT
END:VCALENDAR