BEGIN:VCALENDAR
VERSION:2.0
PRODID:-//RAINIER AUDUBON SOCIETY - ECPv6.15.20//NONSGML v1.0//EN
CALSCALE:GREGORIAN
METHOD:PUBLISH
X-WR-CALNAME:RAINIER AUDUBON SOCIETY
X-ORIGINAL-URL:https://rainieraudubon.org
X-WR-CALDESC:Events for RAINIER AUDUBON SOCIETY
REFRESH-INTERVAL;VALUE=DURATION:PT1H
X-Robots-Tag:noindex
X-PUBLISHED-TTL:PT1H
BEGIN:VTIMEZONE
TZID:America/Los_Angeles
BEGIN:DAYLIGHT
TZOFFSETFROM:-0800
TZOFFSETTO:-0700
TZNAME:PDT
DTSTART:20240310T100000
END:DAYLIGHT
BEGIN:STANDARD
TZOFFSETFROM:-0700
TZOFFSETTO:-0800
TZNAME:PST
DTSTART:20241103T090000
END:STANDARD
BEGIN:DAYLIGHT
TZOFFSETFROM:-0800
TZOFFSETTO:-0700
TZNAME:PDT
DTSTART:20250309T100000
END:DAYLIGHT
BEGIN:STANDARD
TZOFFSETFROM:-0700
TZOFFSETTO:-0800
TZNAME:PST
DTSTART:20251102T090000
END:STANDARD
BEGIN:DAYLIGHT
TZOFFSETFROM:-0800
TZOFFSETTO:-0700
TZNAME:PDT
DTSTART:20260308T100000
END:DAYLIGHT
BEGIN:STANDARD
TZOFFSETFROM:-0700
TZOFFSETTO:-0800
TZNAME:PST
DTSTART:20261101T090000
END:STANDARD
END:VTIMEZONE
BEGIN:VEVENT
DTSTART;TZID=America/Los_Angeles:20250519T190000
DTEND;TZID=America/Los_Angeles:20250519T200000
DTSTAMP:20260423T215724
CREATED:20241027T170244Z
LAST-MODIFIED:20250501T041741Z
UID:10003143-1747681200-1747684800@rainieraudubon.org
SUMMARY:Insights on the Endangered Species Act
DESCRIPTION:By Dr. Todd Wildermuth \n\n\n\n\n\n \n\n\n\nThe Endangered Species Act turned 50 years old in 2023 and appears to be entering a phase of intense stress. Though some species have recovered and others have been prevented from sliding into extinction\, many trendlines are not positive for the ESA. In the physical world of living things\, troubled species are getting more troubled\, and many common species are becoming less common. In the parallel world of written laws and regulations\, key policymakers are seeking ways to limit the ESA’s implementation. Where does that leave us? What actions can we take? And if the ESA has long struggled to do its job\, what reforms do we need most? This presentation takes on those questions by reaching back to the ESA’s beginnings\, exploring the Act’s course of the past 50 years\, and ending with the most recent proposals to amend ESA regulations or suspend their enforcement. \n\n\n\n\n\n\n\nTodd A. Wildermuth is an associate teaching professor of law at the University of Washington School of Law\, as well as policy director of the School’s environmental clinic. He teaches courses on natural resources law\, wildlife law\, ocean and coastal law\, and endangered species management. Since 2019\, he has been a member of the Wildlife Diversity Advisory Council for the Washington Department of Fish and Wildlife. He lives with his family in Seattle.
URL:https://rainieraudubon.org/event/insights-on-the-endangered-species-act/
LOCATION:Federal Way United Methodist Church\, 29645 51st Ave SWA 98001\, Auburn\, Washington\, 98001\, United States
CATEGORIES:Monthly Program Night
ATTACH;FMTTYPE=image/png:https://rainieraudubon.org/wp-content/uploads/2024/10/Facebook-May-2025-Final.png
END:VEVENT
END:VCALENDAR