BEGIN:VCALENDAR
VERSION:2.0
PRODID:-//RAINIER AUDUBON SOCIETY - ECPv6.15.20//NONSGML v1.0//EN
CALSCALE:GREGORIAN
METHOD:PUBLISH
X-WR-CALNAME:RAINIER AUDUBON SOCIETY
X-ORIGINAL-URL:https://rainieraudubon.org
X-WR-CALDESC:Events for RAINIER AUDUBON SOCIETY
REFRESH-INTERVAL;VALUE=DURATION:PT1H
X-Robots-Tag:noindex
X-PUBLISHED-TTL:PT1H
BEGIN:VTIMEZONE
TZID:America/Los_Angeles
BEGIN:DAYLIGHT
TZOFFSETFROM:-0800
TZOFFSETTO:-0700
TZNAME:PDT
DTSTART:20250309T100000
END:DAYLIGHT
BEGIN:STANDARD
TZOFFSETFROM:-0700
TZOFFSETTO:-0800
TZNAME:PST
DTSTART:20251102T090000
END:STANDARD
BEGIN:DAYLIGHT
TZOFFSETFROM:-0800
TZOFFSETTO:-0700
TZNAME:PDT
DTSTART:20260308T100000
END:DAYLIGHT
BEGIN:STANDARD
TZOFFSETFROM:-0700
TZOFFSETTO:-0800
TZNAME:PST
DTSTART:20261101T090000
END:STANDARD
BEGIN:DAYLIGHT
TZOFFSETFROM:-0800
TZOFFSETTO:-0700
TZNAME:PDT
DTSTART:20270314T100000
END:DAYLIGHT
BEGIN:STANDARD
TZOFFSETFROM:-0700
TZOFFSETTO:-0800
TZNAME:PST
DTSTART:20271107T090000
END:STANDARD
END:VTIMEZONE
BEGIN:VEVENT
DTSTART;TZID=America/Los_Angeles:20260216T190000
DTEND;TZID=America/Los_Angeles:20260216T200000
DTSTAMP:20260423T104942
CREATED:20260121T211711Z
LAST-MODIFIED:20260217T003159Z
UID:10003179-1771268400-1771272000@rainieraudubon.org
SUMMARY:Why Washington Matters to Waterfowl
DESCRIPTION:by Kyle Spragens \n\n\n\nFor a variety of reasons\, the ducks\, geese\, and swans that rely upon Washington’s waters and wetlands every year\, are often taken for granted or unnoticed. Using insights and stories from projects across the Pacific Flyway\, you will come away with a deeper appreciation and the urge to take a longer look at these migratory masters of the marsh. \n\n\n\nKyle Spragens is the WDFW Waterfowl Section Manager\, coordinating monitoring and research activities statewide. He serves on the Pacific Flyway Study Committee charged with status assessments and harvest regulation responsibilities throughout the Pacific Flyway states. Currently he is the U.S. Chair for the Pacific Birds Habitat Joint Venture Management Board and looks for an opportunity to talk about waterfowl whenever folks are interested. To find out more please visit: https://pacificbirds.org/about-pacific-birds/our-people/kyle-spragens/ \n\n\n\n\n\n\n\n\n\n3 Billion Birds Lost
URL:https://rainieraudubon.org/event/why-washington-matters-to-waterfowl/
LOCATION:Federal Way United Methodist Church\, 29645 51st Ave SWA 98001\, Auburn\, Washington\, 98001\, United States
CATEGORIES:Monthly Program Night
ATTACH;FMTTYPE=image/png:https://rainieraudubon.org/wp-content/uploads/2026/01/Screenshot-2026-01-21-at-1.11.33-PM.png
END:VEVENT
END:VCALENDAR