BEGIN:VCALENDAR
VERSION:2.0
PRODID:-//RAINIER AUDUBON SOCIETY - ECPv6.15.20//NONSGML v1.0//EN
CALSCALE:GREGORIAN
METHOD:PUBLISH
X-WR-CALNAME:RAINIER AUDUBON SOCIETY
X-ORIGINAL-URL:https://rainieraudubon.org
X-WR-CALDESC:Events for RAINIER AUDUBON SOCIETY
REFRESH-INTERVAL;VALUE=DURATION:PT1H
X-Robots-Tag:noindex
X-PUBLISHED-TTL:PT1H
BEGIN:VTIMEZONE
TZID:America/Los_Angeles
BEGIN:DAYLIGHT
TZOFFSETFROM:-0800
TZOFFSETTO:-0700
TZNAME:PDT
DTSTART:20250309T100000
END:DAYLIGHT
BEGIN:STANDARD
TZOFFSETFROM:-0700
TZOFFSETTO:-0800
TZNAME:PST
DTSTART:20251102T090000
END:STANDARD
BEGIN:DAYLIGHT
TZOFFSETFROM:-0800
TZOFFSETTO:-0700
TZNAME:PDT
DTSTART:20260308T100000
END:DAYLIGHT
BEGIN:STANDARD
TZOFFSETFROM:-0700
TZOFFSETTO:-0800
TZNAME:PST
DTSTART:20261101T090000
END:STANDARD
BEGIN:DAYLIGHT
TZOFFSETFROM:-0800
TZOFFSETTO:-0700
TZNAME:PDT
DTSTART:20270314T100000
END:DAYLIGHT
BEGIN:STANDARD
TZOFFSETFROM:-0700
TZOFFSETTO:-0800
TZNAME:PST
DTSTART:20271107T090000
END:STANDARD
END:VTIMEZONE
BEGIN:VEVENT
DTSTART;TZID=America/Los_Angeles:20260518T190000
DTEND;TZID=America/Los_Angeles:20260518T200000
DTSTAMP:20260423T080736
CREATED:20260202T014901Z
LAST-MODIFIED:20260219T001236Z
UID:10003182-1779130800-1779134400@rainieraudubon.org
SUMMARY:Malheur National Wildlife Refuge & Annual  Membership Meeting
DESCRIPTION:by Dan Streiffert \n\n\n\nFor the past several years the low accumulation of snowpack and rainfall has resulted in a continual reduction in the size of Malheur Lake\, to the point where the lake has nearly disappeared. But this changed in 2025 with a 150% snowpack. As a result\, there is now enough deep water at the Narrows for Harney and Malheur Lakes to merge. This is both good and bad news. \n\n\n\nThe good news is an abundance of waterfowl throughout the spring with an extension of the nesting season to the point where many of the birds have had 2 – 3 broods of chicks. \n\n\n\nThe bad news is that with water everywhere\, the birds are spread out all over the area\, much of which has flooded making it hard to reach.  The flooding was so bad that the north end of Burns flooded the week before the Migratory Bird Festival that was ultimately cancelled. \n\n\n\n\n\n\n\n\n\n\n\n\n\n\n\n\n\n\n\n\n\n\n\n\n\n\n\n\n\n\n\n\n\n\n\n\n\nThis presentation includes visits from both 2025 and the first two weeks of April 2026 for the spring Migratory Bird Festival. \n\n\n\n \n\n\n\n\nMigratory Bird Festival | April 16-19\, 2026
URL:https://rainieraudubon.org/event/malheur-national-wildlife-refuge-2/
LOCATION:Federal Way United Methodist Church\, 29645 51st Ave SWA 98001\, Auburn\, Washington\, 98001\, United States
CATEGORIES:Monthly Program Night
ATTACH;FMTTYPE=image/jpeg:https://rainieraudubon.org/wp-content/uploads/2025/09/54433421135_915163cbc3_c.jpg
END:VEVENT
END:VCALENDAR