BEGIN:VCALENDAR
VERSION:2.0
PRODID:-//RAINIER AUDUBON SOCIETY - ECPv6.15.20//NONSGML v1.0//EN
CALSCALE:GREGORIAN
METHOD:PUBLISH
X-WR-CALNAME:RAINIER AUDUBON SOCIETY
X-ORIGINAL-URL:https://rainieraudubon.org
X-WR-CALDESC:Events for RAINIER AUDUBON SOCIETY
REFRESH-INTERVAL;VALUE=DURATION:PT1H
X-Robots-Tag:noindex
X-PUBLISHED-TTL:PT1H
BEGIN:VTIMEZONE
TZID:America/Los_Angeles
BEGIN:DAYLIGHT
TZOFFSETFROM:-0800
TZOFFSETTO:-0700
TZNAME:PDT
DTSTART:20210314T100000
END:DAYLIGHT
BEGIN:STANDARD
TZOFFSETFROM:-0700
TZOFFSETTO:-0800
TZNAME:PST
DTSTART:20211107T090000
END:STANDARD
BEGIN:DAYLIGHT
TZOFFSETFROM:-0800
TZOFFSETTO:-0700
TZNAME:PDT
DTSTART:20220313T100000
END:DAYLIGHT
BEGIN:STANDARD
TZOFFSETFROM:-0700
TZOFFSETTO:-0800
TZNAME:PST
DTSTART:20221106T090000
END:STANDARD
BEGIN:DAYLIGHT
TZOFFSETFROM:-0800
TZOFFSETTO:-0700
TZNAME:PDT
DTSTART:20230312T100000
END:DAYLIGHT
BEGIN:STANDARD
TZOFFSETFROM:-0700
TZOFFSETTO:-0800
TZNAME:PST
DTSTART:20231105T090000
END:STANDARD
BEGIN:DAYLIGHT
TZOFFSETFROM:-0800
TZOFFSETTO:-0700
TZNAME:PDT
DTSTART:20240310T100000
END:DAYLIGHT
BEGIN:STANDARD
TZOFFSETFROM:-0700
TZOFFSETTO:-0800
TZNAME:PST
DTSTART:20241103T090000
END:STANDARD
BEGIN:DAYLIGHT
TZOFFSETFROM:-0800
TZOFFSETTO:-0700
TZNAME:PDT
DTSTART:20250309T100000
END:DAYLIGHT
BEGIN:STANDARD
TZOFFSETFROM:-0700
TZOFFSETTO:-0800
TZNAME:PST
DTSTART:20251102T090000
END:STANDARD
END:VTIMEZONE
BEGIN:VEVENT
DTSTART;TZID=America/Los_Angeles:20240427T100000
DTEND;TZID=America/Los_Angeles:20240427T160000
DTSTAMP:20260423T093433
CREATED:20240403T210131Z
LAST-MODIFIED:20240403T210137Z
UID:10003114-1714212000-1714233600@rainieraudubon.org
SUMMARY:2024 Annual Spring Plant Sale at Soos Creek Botanical Gardens - Saturday
DESCRIPTION:Join Rainier Audubon at Soos Creek Botanical Garden for the annual spring plant sale. The garden is a beautiful location for this outreach event. In our Audubon information booth\, we answer birding questions and advise on nest boxes\, feeders\, and native plants that will attract birds to your yard. \n\n\n\nVolunteers needed.  Please contact Ken Schroeder (kenneth.schroeder@rainieraudubon.org) \n\n\n\nSoos Creek Botanical Garden29308 132nd AVE SEAuburn\, WA 98092https://www.sooscreekbotanicalgarden.org/
URL:https://rainieraudubon.org/event/2024-annual-spring-plant-sale-at-soos-creek-botanical-gardens-saturday/
LOCATION:Soos Creek Botanical Garden\, 29308 132nd Ave SE\, Auburn\, Washington\, 98092\, United States
CATEGORIES:Plant Sale
ATTACH;FMTTYPE=image/jpeg:https://rainieraudubon.org/wp-content/uploads/2023/08/Soos-Creek-Fall-2022-3-scaled-e1692807517497.jpg
END:VEVENT
BEGIN:VEVENT
DTSTART;TZID=America/Los_Angeles:20240426T100000
DTEND;TZID=America/Los_Angeles:20240426T160000
DTSTAMP:20260423T093433
CREATED:20240202T020131Z
LAST-MODIFIED:20240403T205948Z
UID:10003102-1714125600-1714147200@rainieraudubon.org
SUMMARY:2024 Annual Spring Plant Sale at Soos Creek Botanical Gardens - Friday
DESCRIPTION:Join Rainier Audubon at Soos Creek Botanical Garden for the annual spring plant sale. The garden is a beautiful location for this outreach event. In our Audubon information booth\, we answer birding questions and advise on nest boxes\, feeders\, and native plants that will attract birds to your yard. \n\n\n\nVolunteers needed.  Please contact Ken Schroeder (kenneth.schroeder@rainieraudubon.org) \n\n\n\nSoos Creek Botanical Garden29308 132nd AVE SEAuburn\, WA 98092https://www.sooscreekbotanicalgarden.org/
URL:https://rainieraudubon.org/event/annual-spring-plant-sale-at-soos-creek-botanical-gardens-2/
LOCATION:Soos Creek Botanical Garden\, 29308 132nd Ave SE\, Auburn\, Washington\, 98092\, United States
CATEGORIES:Plant Sale
ATTACH;FMTTYPE=image/jpeg:https://rainieraudubon.org/wp-content/uploads/2023/08/Soos-Creek-Fall-2022-3-scaled-e1692807517497.jpg
END:VEVENT
BEGIN:VEVENT
DTSTART;TZID=America/Los_Angeles:20220916T100000
DTEND;TZID=America/Los_Angeles:20220917T160000
DTSTAMP:20260423T093433
CREATED:20220822T040333Z
LAST-MODIFIED:20220826T234808Z
UID:10001065-1663322400-1663430400@rainieraudubon.org
SUMMARY:Fall Plant Sale at Soos Creek Botanical Gardens
DESCRIPTION:Linda Carlson and Ken SchroederNest Box ProjectMore DisplaysPlant Sale\n\n\n\n\n\nSCBG Plant Sale April\, 2022 \n\n\n\nCome visit our Soo’s Creek Botanical Garden Fall Plant sale. We will have a nice selection of beautiful\, healthy\, plants propagated from the garden’s collections.  Fall is an excellent time to plant\, the fall rains will help plants establish and be ready to thrive come spring. Proceeds benefit our lovely garden. \n\n\n\nRainier Audubon will have an information booth with displays on our chapter activities\, nest box construction\, bird feeding methods\, bird identification\, and more. We can always use volunteers to help with set-up\, and to staff the information booth. For information\, please contact Ken Schroeder at kenneth.schroeder@rainieraudubon.org
URL:https://rainieraudubon.org/event/fall-plant-sale-at-soos-creek-botanical-gardens/
LOCATION:Soos Creek Botanical Gardens\, 29308 132nd Ave SE\, Auburn\, Washington\, 98092
CATEGORIES:Plant Sale
ATTACH;FMTTYPE=image/jpeg:https://rainieraudubon.org/wp-content/uploads/2022/08/WelcomingTent.jpg
END:VEVENT
END:VCALENDAR