BEGIN:VCALENDAR
VERSION:2.0
PRODID:-//RAINIER AUDUBON SOCIETY - ECPv6.15.20//NONSGML v1.0//EN
CALSCALE:GREGORIAN
METHOD:PUBLISH
X-WR-CALNAME:RAINIER AUDUBON SOCIETY
X-ORIGINAL-URL:https://rainieraudubon.org
X-WR-CALDESC:Events for RAINIER AUDUBON SOCIETY
REFRESH-INTERVAL;VALUE=DURATION:PT1H
X-Robots-Tag:noindex
X-PUBLISHED-TTL:PT1H
BEGIN:VTIMEZONE
TZID:America/Los_Angeles
BEGIN:DAYLIGHT
TZOFFSETFROM:-0800
TZOFFSETTO:-0700
TZNAME:PDT
DTSTART:20210314T100000
END:DAYLIGHT
BEGIN:STANDARD
TZOFFSETFROM:-0700
TZOFFSETTO:-0800
TZNAME:PST
DTSTART:20211107T090000
END:STANDARD
BEGIN:DAYLIGHT
TZOFFSETFROM:-0800
TZOFFSETTO:-0700
TZNAME:PDT
DTSTART:20220313T100000
END:DAYLIGHT
BEGIN:STANDARD
TZOFFSETFROM:-0700
TZOFFSETTO:-0800
TZNAME:PST
DTSTART:20221106T090000
END:STANDARD
BEGIN:DAYLIGHT
TZOFFSETFROM:-0800
TZOFFSETTO:-0700
TZNAME:PDT
DTSTART:20230312T100000
END:DAYLIGHT
BEGIN:STANDARD
TZOFFSETFROM:-0700
TZOFFSETTO:-0800
TZNAME:PST
DTSTART:20231105T090000
END:STANDARD
END:VTIMEZONE
BEGIN:VEVENT
DTSTART;TZID=America/Los_Angeles:20221025T190000
DTEND;TZID=America/Los_Angeles:20221025T203000
DTSTAMP:20260425T152208
CREATED:20221020T221533Z
LAST-MODIFIED:20221020T221548Z
UID:10001078-1666724400-1666729800@rainieraudubon.org
SUMMARY:Better Birding Series: Planning for the arrival of Birds using eBird’s monthly tools
DESCRIPTION:By Calen Randall \n\n\n\n\n\n\nTrumpeter Swans\n\n\n\nTundra Swans\n\n\n\n\nDo you feel like you are always behind the curve when it comes to preparing for the next season of birds?Do you wish you were more prepared when you go out to an area to bird and want to know what to find? \n\n\n\nJoin us for a session on using eBird and its monthly tools and get better prepared for your outings. We will be exploring different paths of Tundra and Trumpeter Swans\, and Snow Geese. \n\n\n\nCindy Flanagan is inviting you to a scheduled Zoom meeting. \n\n\n\nTopic: Better Birding Series: Planning for the arrival of birds using eBird’s monthly toolsTime: Oct 25\, 2022 07:00 PM Pacific Time (US and Canada) \n\n\n\nJoin Zoom Meetinghttps://us06web.zoom.us/j/88591087889?pwd=aFd2N0ZoVUpwdXI1cUptbnRINWFtUT09 \n\n\n\nMeeting ID: 885 9108 7889Passcode: 662922One tap mobile+12532158782\,\,88591087889#\,\,\,\,*662922# US (Tacoma)+14086380968\,\,88591087889#\,\,\,\,*662922# US (San Jose) \n\n\n\nBetter Birding Series \n\n\n\nFor the 2022-23 season\, Rainier Audubon will offer a Better Birding Webinar Series. The series focuses on connecting birders to tools and strategies to help plan birding outings and to find and identify birds. \n\n\n\nTuesday\, October 25              Planning for the arrival of Birds using eBird’s monthly toolsTuesday\, November  15th      Getting Down and Birdy:  Planning your Big YearTuesday\, January 17th            Meet your new bird guide: the Merlin ID appTuesday\, February 21st          Hot on the bird tracks: Using BirdCast to watch your local Migration
URL:https://rainieraudubon.org/event/better-birding-series-planning-for-the-arrival-of-birds-using-ebirds-monthly-tools-3/
LOCATION:ZOOM
CATEGORIES:eBird Event,Webinar
ATTACH;FMTTYPE=image/jpeg:https://rainieraudubon.org/wp-content/uploads/2022/09/2013-02-19_176-DLS.jpg
END:VEVENT
BEGIN:VEVENT
DTSTART;TZID=America/Los_Angeles:20221026T160000
DTEND;TZID=America/Los_Angeles:20221026T170000
DTSTAMP:20260425T152208
CREATED:20221026T030515Z
LAST-MODIFIED:20221026T030523Z
UID:10001160-1666800000-1666803600@rainieraudubon.org
SUMMARY:Migratory Bird Explorer
DESCRIPTION:Last month\, Audubon announced the Bird Migration Explorer\, a first-of-its-kind\, interactive\, digital platform that visualizes the heroic annual journeys of 458 North American migratory species. The culmination of years of collaboration and scientific contributions from hundreds of researchers and institutions\, the Explorer will transform the way we approach the toughest conservation challenges and our relationship with the birds we all love. \n\n\n\nJoin from a PC\, Mac\, iPad\, iPhone or Android device: \n\n\n\nClick Here to JoinNote: This link should not be shared with others; it is unique to you.Password: 461001Add to Calendar  Add to Google Calendar  Add to Yahoo CalendarOr join by phone: \n\n\n\nUS: +1 301 715 8592 or +1 312 626 6799 or +1 346 248 7799 or +1 646 518 9805 or +1 646 876 9923 or +1 669 900 6833 or +1 253 215 8782Webinar ID: 959 0982 0593Password: 461001
URL:https://rainieraudubon.org/event/migratory-bird-explorer/
CATEGORIES:Webinar
ATTACH;FMTTYPE=image/png:https://rainieraudubon.org/wp-content/uploads/2022/10/Audubon.png
END:VEVENT
END:VCALENDAR