BEGIN:VCALENDAR
VERSION:2.0
PRODID:-//RAINIER AUDUBON SOCIETY - ECPv6.15.20//NONSGML v1.0//EN
CALSCALE:GREGORIAN
METHOD:PUBLISH
X-WR-CALNAME:RAINIER AUDUBON SOCIETY
X-ORIGINAL-URL:https://rainieraudubon.org
X-WR-CALDESC:Events for RAINIER AUDUBON SOCIETY
REFRESH-INTERVAL;VALUE=DURATION:PT1H
X-Robots-Tag:noindex
X-PUBLISHED-TTL:PT1H
BEGIN:VTIMEZONE
TZID:America/Los_Angeles
BEGIN:DAYLIGHT
TZOFFSETFROM:-0800
TZOFFSETTO:-0700
TZNAME:PDT
DTSTART:20210314T100000
END:DAYLIGHT
BEGIN:STANDARD
TZOFFSETFROM:-0700
TZOFFSETTO:-0800
TZNAME:PST
DTSTART:20211107T090000
END:STANDARD
BEGIN:DAYLIGHT
TZOFFSETFROM:-0800
TZOFFSETTO:-0700
TZNAME:PDT
DTSTART:20220313T100000
END:DAYLIGHT
BEGIN:STANDARD
TZOFFSETFROM:-0700
TZOFFSETTO:-0800
TZNAME:PST
DTSTART:20221106T090000
END:STANDARD
BEGIN:DAYLIGHT
TZOFFSETFROM:-0800
TZOFFSETTO:-0700
TZNAME:PDT
DTSTART:20230312T100000
END:DAYLIGHT
BEGIN:STANDARD
TZOFFSETFROM:-0700
TZOFFSETTO:-0800
TZNAME:PST
DTSTART:20231105T090000
END:STANDARD
END:VTIMEZONE
BEGIN:VEVENT
DTSTART;TZID=America/Los_Angeles:20220831T130000
DTEND;TZID=America/Los_Angeles:20220831T140000
DTSTAMP:20260423T092848
CREATED:20220813T033846Z
LAST-MODIFIED:20220813T061651Z
UID:10001056-1661950800-1661954400@rainieraudubon.org
SUMMARY:On the Frontlines of Extinction: Saving the Rarest Hummingbirds
DESCRIPTION:Found only in the Americas\, hummingbirds surprise and delight us — yet many of these feisty birds are on the verge of disappearing forever\, including 39 that are globally threatened. Habitat loss is the biggest threat they face – particularly loss of forests and mountain shrublands. \n\n\n\nJoin our upcoming webinar on August 31 for a trip across our reserve network\, with stops in Brazil and Ecuador.You’ll learn about some of the rarest hummingbirds and what we’re doing do save them (and other species). \n\n\n\nABC and its partners are determined to prevent these extinctions by restoring and protecting habitat. Through a network of reserves across Latin America and the Caribbean\, we’re helping to protect 241 hummingbird species across more than 1.1 million acres. \n\n\n\nSpeakers on the webinar will include: \n\n\n\nAmy Upgren\, Director of Alliance for Zero Extinction and Key Biodiversity Areas Programs\, American Bird Conservancy;Bárbara Cavalcante\, Northeast Atlantic Forest Project Coordinator\, SAVE Brasil;José León\, Research Coordinator\, Fundación Jocotoco.\n\n\n\nWHAT: On the Frontlines of Extinction: Saving the Rarest Hummingbirds \n\n\n\nWHEN: Thursday\, August 31 at 6:00 PM EDT \n\n\n\nWHERE: Zoom (link provided upon registration) \n\n\n\nI hope you join us! If you can’t make it\, you can still RSVP to get the recording sent directly to you after the event. \n\n\n\nSincerely\, \n\n\n\nJordan E. Rutter \n\n\n\nDirector of Public Relations \n\n\n\nAmerican Bird Conservancy
URL:https://rainieraudubon.org/event/on-the-frontlines-of-extinction-saving-the-rarest-hummingbirds/
CATEGORIES:Webinar
ATTACH;FMTTYPE=image/jpeg:https://rainieraudubon.org/wp-content/uploads/2022/08/IMG_9686_edited-2.jpg
END:VEVENT
BEGIN:VEVENT
DTSTART;TZID=America/Los_Angeles:20220426T190000
DTEND;TZID=America/Los_Angeles:20220426T203000
DTSTAMP:20260423T092848
CREATED:20220331T174249Z
LAST-MODIFIED:20220331T174255Z
UID:10001036-1650999600-1651005000@rainieraudubon.org
SUMMARY:Gardening for Birds
DESCRIPTION:This webinar will explore how to bring more birds to your home with native plants. Find out how to create a Pacific Northwest bird habitat that provides birds with food\, shelter\, and nesting sites year-round. Whether you are in a house\, a tiny home\, or an apartment\, your outdoor space can become a sanctuary for you and the birds. We will have three master gardeners come in and share some of their tips and answer your questions about gardening for birds. \n\n\n\nJoin our Zoom Meeting \n\n\n\nhttps://us06web.zoom.us/j/88458418095?pwd=Q2dWSk0zVDA2N3pSa3V1WWZhT2VEQT09
URL:https://rainieraudubon.org/event/gardening-for-birds/
CATEGORIES:Webinar
ATTACH;FMTTYPE=image/jpeg:https://rainieraudubon.org/wp-content/uploads/2022/03/2012-07-31_055-DLS.jpg
END:VEVENT
BEGIN:VEVENT
DTSTART;TZID=America/Los_Angeles:20220331T090000
DTEND;TZID=America/Los_Angeles:20220331T100000
DTSTAMP:20260423T092848
CREATED:20220323T030707Z
LAST-MODIFIED:20220323T031432Z
UID:10001033-1648717200-1648720800@rainieraudubon.org
SUMMARY:Sandhill Cranes of Homer\, Alaska
DESCRIPTION:by Gary Ivey \n\n\n\n\n\nInternational Crane Foundation Webinar\n\n\n\n\n\nJoin our Research Associate Gary Ivey to learn about his 2008 study of Sandhill Cranes in Homer\, Alaska. Gary will describe their habitat use and migration paths through the Pacific Flyway to their wintering grounds in California’s Central Valley.Sponsored in memory of our dear granddaughter\, Beatrice Love Walter\, who loved cranes. Dawn and William Cogger.\n\n\n\n\nRegister
URL:https://rainieraudubon.org/event/sandhill-cranes-of-homer-alaska/
CATEGORIES:Webinar
ATTACH;FMTTYPE=image/jpeg:https://rainieraudubon.org/wp-content/uploads/2022/03/2018-10-24_0049-DLS.jpg
END:VEVENT
BEGIN:VEVENT
DTSTART;TZID=America/Los_Angeles:20220120T190000
DTEND;TZID=America/Los_Angeles:20220120T200000
DTSTAMP:20260423T092848
CREATED:20220105T220910Z
LAST-MODIFIED:20220105T221107Z
UID:10001029-1642705200-1642708800@rainieraudubon.org
SUMMARY:Back to the Night: Why Preserving the Stars is Not Just for the Birds
DESCRIPTION:Join our friends at East Cascade Audubon Society for their FREE monthly Birder’s Night presentation on Thursday January 20th at 7:00 PM. This presentation will be an exploration of the night’s wondrous mysteries and the impacts of light pollution with Portland Audubon Society’s Mary Coolidge. We will learn about how we can preserve our starry skies while simultaneously creating vibrant\, beautiful\, and safe nighttime cityscapes.  \n\n\n\nZoom Link: Back to the Night Jan. 20\, 7 PM
URL:https://rainieraudubon.org/event/back-to-the-night-why-preserving-the-stars-is-not-just-for-the-birds/
CATEGORIES:Webinar
ATTACH;FMTTYPE=image/jpeg:https://rainieraudubon.org/wp-content/uploads/2022/01/unnamed.jpg
END:VEVENT
END:VCALENDAR