BEGIN:VCALENDAR
VERSION:2.0
PRODID:-//RAINIER AUDUBON SOCIETY - ECPv6.15.20//NONSGML v1.0//EN
CALSCALE:GREGORIAN
METHOD:PUBLISH
X-ORIGINAL-URL:https://rainieraudubon.org
X-WR-CALDESC:Events for RAINIER AUDUBON SOCIETY
REFRESH-INTERVAL;VALUE=DURATION:PT1H
X-Robots-Tag:noindex
X-PUBLISHED-TTL:PT1H
BEGIN:VTIMEZONE
TZID:America/Los_Angeles
BEGIN:DAYLIGHT
TZOFFSETFROM:-0800
TZOFFSETTO:-0700
TZNAME:PDT
DTSTART:20250309T100000
END:DAYLIGHT
BEGIN:STANDARD
TZOFFSETFROM:-0700
TZOFFSETTO:-0800
TZNAME:PST
DTSTART:20251102T090000
END:STANDARD
BEGIN:DAYLIGHT
TZOFFSETFROM:-0800
TZOFFSETTO:-0700
TZNAME:PDT
DTSTART:20260308T100000
END:DAYLIGHT
BEGIN:STANDARD
TZOFFSETFROM:-0700
TZOFFSETTO:-0800
TZNAME:PST
DTSTART:20261101T090000
END:STANDARD
BEGIN:DAYLIGHT
TZOFFSETFROM:-0800
TZOFFSETTO:-0700
TZNAME:PDT
DTSTART:20270314T100000
END:DAYLIGHT
BEGIN:STANDARD
TZOFFSETFROM:-0700
TZOFFSETTO:-0800
TZNAME:PST
DTSTART:20271107T090000
END:STANDARD
END:VTIMEZONE
BEGIN:VEVENT
DTSTART;TZID=America/Los_Angeles:20260725T070000
DTEND;TZID=America/Los_Angeles:20260725T110000
DTSTAMP:20260423T165646
CREATED:20260319T185957Z
LAST-MODIFIED:20260320T185145Z
UID:10003197-1784962800-1784977200@rainieraudubon.org
SUMMARY:Clark Lake Park - Birdwalk with Bob Swain
DESCRIPTION:Bob Swain will lead a bird walk for a summer exploration of Clark Lake Park on July 25th.The park offers a variety of habitat types and bird species. Follow trails to the lake andthrough forest\, wetland\, meadow and even an old orchard. We’ll walk one or two milesat a leisurely pace searching for waterfowl\, raptors and passerines. Dress in layers andbring binoculars\, spotting scopes\, cameras\, water and snacks.Meet: Join us at Clark Lake Park at 12520 SE 240th St. in Kent at 7:00 AM \n\n\nCurrently RegisteredAttendance: 0 / ∞Registrations are closed for this event
URL:https://rainieraudubon.org/event/clark-lake-park-birdwalk-with-bob-swain/
LOCATION:Clark Lake Park\, 12520 SE 240th St\, Kent\, Washington\, 98031
CATEGORIES:Fieldtrips
ATTACH;FMTTYPE=image/webp:https://rainieraudubon.org/wp-content/uploads/2024/10/53756869984_5a11fb3f7f_c.webp
END:VEVENT
END:VCALENDAR