BEGIN:VCALENDAR
VERSION:2.0
PRODID:-//RAINIER AUDUBON SOCIETY - ECPv6.15.20//NONSGML v1.0//EN
CALSCALE:GREGORIAN
METHOD:PUBLISH
X-WR-CALNAME:RAINIER AUDUBON SOCIETY
X-ORIGINAL-URL:https://rainieraudubon.org
X-WR-CALDESC:Events for RAINIER AUDUBON SOCIETY
REFRESH-INTERVAL;VALUE=DURATION:PT1H
X-Robots-Tag:noindex
X-PUBLISHED-TTL:PT1H
BEGIN:VTIMEZONE
TZID:America/Los_Angeles
BEGIN:DAYLIGHT
TZOFFSETFROM:-0800
TZOFFSETTO:-0700
TZNAME:PDT
DTSTART:20230312T100000
END:DAYLIGHT
BEGIN:STANDARD
TZOFFSETFROM:-0700
TZOFFSETTO:-0800
TZNAME:PST
DTSTART:20231105T090000
END:STANDARD
BEGIN:DAYLIGHT
TZOFFSETFROM:-0800
TZOFFSETTO:-0700
TZNAME:PDT
DTSTART:20240310T100000
END:DAYLIGHT
BEGIN:STANDARD
TZOFFSETFROM:-0700
TZOFFSETTO:-0800
TZNAME:PST
DTSTART:20241103T090000
END:STANDARD
BEGIN:DAYLIGHT
TZOFFSETFROM:-0800
TZOFFSETTO:-0700
TZNAME:PDT
DTSTART:20250309T100000
END:DAYLIGHT
BEGIN:STANDARD
TZOFFSETFROM:-0700
TZOFFSETTO:-0800
TZNAME:PST
DTSTART:20251102T090000
END:STANDARD
END:VTIMEZONE
BEGIN:VEVENT
DTSTART;TZID=America/Los_Angeles:20241012T080000
DTEND;TZID=America/Los_Angeles:20241012T120000
DTSTAMP:20260424T045733
CREATED:20240820T202313Z
LAST-MODIFIED:20240820T202729Z
UID:10003118-1728720000-1728734400@rainieraudubon.org
SUMMARY:Fall Birds\, Fall Color with Steve Johson
DESCRIPTION:Sign up early for this popular annual trip with Steve. Visit picturesque parks and beaches in King County and Pierce County during a great time of year to look for returning fall birds. We will travel to local parks and beaches along Puget Sound\, searching for many species of sea birds and forest birds. This is a good time of year to encounter scenic views and fall color. Expect to walk short distances from the cars. People who wish to leave early may do so. \n\n\n\nBring: Lunch\, beverages\, warm clothes and your Discover Pass. A scope is very welcome. \n\n\n\nMeet: 8:00AM at the Redondo Heights Park and Ride\, 27454 Pacific Hwy S\, Federal Way\, WA 98003 \n\n\n\nhttps://goo.gl/maps/BxnYcdDhbSivzyUS7 \n\n\n\nSign-up: Call or email Steve Johnson\, 253- 941-9852. johnsonsj5@msn.com
URL:https://rainieraudubon.org/event/fall-birds-fall-color-with-steve-johson/
CATEGORIES:eBird Event,Fieldtrips
ATTACH;FMTTYPE=image/jpeg:https://rainieraudubon.org/wp-content/uploads/2024/08/2023-05-10_0055.jpg
END:VEVENT
BEGIN:VEVENT
DTSTART;TZID=America/Los_Angeles:20241019T090000
DTEND;TZID=America/Los_Angeles:20241019T110000
DTSTAMP:20260424T045733
CREATED:20241017T211956Z
LAST-MODIFIED:20241017T221120Z
UID:10003129-1729328400-1729335600@rainieraudubon.org
SUMMARY:In-person Nature Journaling Outing - Cedar River Salmon
DESCRIPTION:These outings are informal gatherings. We will gather in an area and people can explore together or individually. The last 30 minutes of our session\, we will come together and share our experiences. Minors (under 18 years of age) must be accompanied by an adult. \n\n\n\nWhat to bring: Whatever you want to use to record information: \n\n\n\n\na pencil/pen\, some paper and a clipboard or a journal\,\n\n\n\ncolor such as watercolor or colored pencils (optional)\n\n\n\nsomething to sit on if you need\, like a thermal foam pad or a portable seat (optional)\n\n\n\n\nTo register for in-person outings\, please email Cindy atcindy.flanagan.nature.studio@gmail.com
URL:https://rainieraudubon.org/event/in-person-nature-journaling-outing-cedar-river-salmon/
LOCATION:Renton Public Library\, 100 Mill Avenue S\, Renton\, Washington\, 98057\, United States
CATEGORIES:Nature Journaling
END:VEVENT
BEGIN:VEVENT
DTSTART;TZID=America/Los_Angeles:20241020T150000
DTEND;TZID=America/Los_Angeles:20241020T170000
DTSTAMP:20260424T045733
CREATED:20241001T004327Z
LAST-MODIFIED:20241001T004332Z
UID:10003126-1729436400-1729443600@rainieraudubon.org
SUMMARY:Nature Journaling Zoom Meeting
DESCRIPTION:Our Zoom link is the same link each month.https://us06web.zoom.us/j/81031877091?pwd=TEpwcDZ4TDVhaFIxMWlUbnVrbEhzdz09
URL:https://rainieraudubon.org/event/nature-journaling-zoom-meeting/
CATEGORIES:Nature Journaling
END:VEVENT
BEGIN:VEVENT
DTSTART;TZID=America/Los_Angeles:20241021T190000
DTEND;TZID=America/Los_Angeles:20241021T200000
DTSTAMP:20260424T045733
CREATED:20240821T022105Z
LAST-MODIFIED:20240920T233723Z
UID:10003119-1729537200-1729540800@rainieraudubon.org
SUMMARY:The Northern Hawk Owl Project – Insights into the Movements of an Enigmatic Species of Owl  
DESCRIPTION:By Hannah Toutonghi \n\n\n\nNorthern Hawk Owls (Surnia ulula) are one of the least studied birds in North America due to their remote range in the northern boreal forests. Little is known about how far individuals travel\, whether leaving their natal grounds for the first time or after they have established a winter territory. They are enigmatic\, feisty\, and incredibly charismatic owls. This talk by Hannah Toutonghi delves into her research of using novel telemetry methods to see if we can\, for the first time\, get a glimpse inside the life of how hawk owls move throughout the landscape. Please come with your curiosity and questions about this nomadic denizen of the Northwoods! \n\n\n\n\n\n\n\n\n\n\n\n\n\n\n\n\n\n\n\n\n\n\n\n\n\nHannah is a field ornithologist from the greater Seattle area\, who has focused her research efforts on studying raptor migration and breeding birds in the boreal forest over the last several years. She has previously worked at Whitefish Point Bird Observatory\, the Natural Resources Research Institute\, Hawk Ridge Bird Observatory\, and the Institute for Bird Populations. Hannah completed her master’s degree through the University of Minnesota Duluth\, and now works as a data scientist at the Ocean Research College Academy in Everett\, Washington. Throughout her field work experience and graduate school\, she has realized how important it is to get students interested in the natural world. She is an avid birder and feels lucky to return to the pacific northwest to both enjoy and study the birds in this region. 
URL:https://rainieraudubon.org/event/the-northern-owl-project-insights-into-a-enigmatic-species-of-ow/
LOCATION:Federal Way United Methodist Church\, 29645 51st Ave SW\, Auburn\, 98001\, 98001\, United States
CATEGORIES:Monthly Program Night
ATTACH;FMTTYPE=image/jpeg:https://rainieraudubon.org/wp-content/uploads/2024/08/IMG_3348-2-1-scaled.jpg
END:VEVENT
BEGIN:VEVENT
DTSTART;TZID=America/Los_Angeles:20241027T090000
DTEND;TZID=America/Los_Angeles:20241027T120000
DTSTAMP:20260424T045733
CREATED:20240913T164706Z
LAST-MODIFIED:20240913T164716Z
UID:10003124-1730019600-1730030400@rainieraudubon.org
SUMMARY:Clark Lake Park - Half Day bird walk with Barbara Petersen
DESCRIPTION:Join Barbara Petersen’s bird walk for a fall exploration of Clark Lake Park. The park offers a variety of habitat types and bird species. Follow trails to the lake and through forest\, wetland\, meadow and even an old orchard. We’ll walk one or two miles at a leisurely place searching for waterfowl\, raptors and autumn passerines. Bring binoculars\, spotting scopes\, cameras\, warm layers\, water and snacks. \n\n\n\nMeet: Join us at Clark Lake Park at 12520 SE 240th St. in Kent at 9:00 AM \n\n\n\nClark Lake Park · 12520 SE 240th St\, Kent\, WA 98031
URL:https://rainieraudubon.org/event/clark-lake-park-half-day-bird-walk-with-barbara-petersen-3/
CATEGORIES:Fieldtrips
ATTACH;FMTTYPE=image/jpeg:https://rainieraudubon.org/wp-content/uploads/2023/02/2010-07-17_Dan-Streiffert-0021_edited-1.jpg
END:VEVENT
END:VCALENDAR