BEGIN:VCALENDAR
VERSION:2.0
PRODID:-//RAINIER AUDUBON SOCIETY - ECPv6.15.20//NONSGML v1.0//EN
CALSCALE:GREGORIAN
METHOD:PUBLISH
X-ORIGINAL-URL:https://rainieraudubon.org
X-WR-CALDESC:Events for RAINIER AUDUBON SOCIETY
REFRESH-INTERVAL;VALUE=DURATION:PT1H
X-Robots-Tag:noindex
X-PUBLISHED-TTL:PT1H
BEGIN:VTIMEZONE
TZID:America/Los_Angeles
BEGIN:DAYLIGHT
TZOFFSETFROM:-0800
TZOFFSETTO:-0700
TZNAME:PDT
DTSTART:20240310T100000
END:DAYLIGHT
BEGIN:STANDARD
TZOFFSETFROM:-0700
TZOFFSETTO:-0800
TZNAME:PST
DTSTART:20241103T090000
END:STANDARD
BEGIN:DAYLIGHT
TZOFFSETFROM:-0800
TZOFFSETTO:-0700
TZNAME:PDT
DTSTART:20250309T100000
END:DAYLIGHT
BEGIN:STANDARD
TZOFFSETFROM:-0700
TZOFFSETTO:-0800
TZNAME:PST
DTSTART:20251102T090000
END:STANDARD
BEGIN:DAYLIGHT
TZOFFSETFROM:-0800
TZOFFSETTO:-0700
TZNAME:PDT
DTSTART:20260308T100000
END:DAYLIGHT
BEGIN:STANDARD
TZOFFSETFROM:-0700
TZOFFSETTO:-0800
TZNAME:PST
DTSTART:20261101T090000
END:STANDARD
END:VTIMEZONE
BEGIN:VEVENT
DTSTART;TZID=America/Los_Angeles:20251004T080000
DTEND;TZID=America/Los_Angeles:20251004T113000
DTSTAMP:20260423T143134
CREATED:20250912T031148Z
LAST-MODIFIED:20250912T031156Z
UID:10003166-1759564800-1759577400@rainieraudubon.org
SUMMARY:Wild Birds Unlimited Store October Bird Walk
DESCRIPTION:Join Barbara Petersen’s next WBU bird walk on Saturday Oct 4 to Browns Point Lighthouse Park. Meet at the Burien WBU store by 8:15am to form carpools\, or at 8:50am at Browns Point Lighthouse Park.  \n\n\n\nWe’ll look for passerines along edges of park and for saltwater birds on the Sound. We’ll try to finish by 11:30 and be back at WBU by noon.  \n\n\n\nCall Burien’s Wild Birds Unlimited store to sign up\, 206-241-3201
URL:https://rainieraudubon.org/event/wild-birds-unlimited-store-october-bird-walk/
LOCATION:Browns Point Lighthouse\, 201 Tulalip St NE\, Browns Point\, Washington\, 98422\, United States
CATEGORIES:Fieldtrips
ATTACH;FMTTYPE=image/jpeg:https://rainieraudubon.org/wp-content/uploads/2025/09/Surf-Scoter.jpg
END:VEVENT
BEGIN:VEVENT
DTSTART;TZID=America/Los_Angeles:20251005T090000
DTEND;TZID=America/Los_Angeles:20251005T130000
DTSTAMP:20260423T143134
CREATED:20250925T022212Z
LAST-MODIFIED:20250925T024030Z
UID:10003172-1759654800-1759669200@rainieraudubon.org
SUMMARY:Bass Lake Complex Fall 2025 Bird Walk
DESCRIPTION:Sunday\, October 12@9:00am – 1:00 pm (Backup Bad Weather Date)Leaders: Ken Schroeder and Dolly OwenJoin leaders Ken Schroeder and Dolly Owen for a half-day exploration of the Bass Lake Complex Natural Area. We do a one-way walk to explore three different lakes in this lowland basin along a well-maintained trail\, for a total of 1.8 miles. There are only a few gentle uphill sections. We go slowly for birding and nature study. With luck we will observe some fall migrating birds\, and possibly a glimpse of the Mt. Rainier Elk herd. Our walk ends at the mysterious “Sinkhole Lake” with a well-deserved reputation of being bottomless.The Bass Lake Complex is a ten-minute drive from Flaming Geyser State Park. We will meet at Whitney Bridge Park at the intersection of SE Green Valley Road\, and 218th Ave SE. This intersection is just west of Flaming Geyser State Park. Look for our vehicles parked in a gravelly pull-off at this intersection.When all guests have arrived\, we will caravan to Sinkhole Lake. Two cars are parked here while the other two cars shuttle eight birders to our starting location at Bass Lake. At the conclusion of the hike\, we shuttle back to the starting point and go our separate ways. Stopping for lunch at the nearby\, and world famous\, “Black Diamond Bakery” is optional.We must have a total of four cars that each seat four to shuttle between the starting and ending points. This bird hike is capped at six guests\, plus two leaders for a total of eight. We remain together for the entire outing.Bring hiking boots\, a water bottle\, a few snacks\, rain gear\, binoculars\, an optional hiking pole\, and your sense of adventure. If the weather is bad\, we will postpone to the following weekend.To register for this outing please email Ken Schroeder at kenschroeder@msn.com.Ken is also at 253-939-7470.
URL:https://rainieraudubon.org/event/bass-lake-complex-fall-2025-bird-walk/
CATEGORIES:eBird Event,Fieldtrips
ATTACH;FMTTYPE=image/jpeg:https://rainieraudubon.org/wp-content/uploads/2025/09/Wood-Duck.jpg
END:VEVENT
BEGIN:VEVENT
DTSTART;TZID=America/Los_Angeles:20251011T080000
DTEND;TZID=America/Los_Angeles:20251011T140000
DTSTAMP:20260423T143134
CREATED:20250902T020106Z
LAST-MODIFIED:20250917T030338Z
UID:10003163-1760169600-1760191200@rainieraudubon.org
SUMMARY:Fall Color and Fall Birds
DESCRIPTION:With Steve Johnson8:00 AM to early afternoonSign up early for this popular annual trip with Steve. Visit picturesque parks and beaches in King County and Pierce County during a great time of year to look for returning fall birds. We will travel to local parks and beaches along Puget Sound\, searching for many species of sea birds and forest birds. This is a good time of year to encounter scenic views and fall color. Expect to walk short distances from the cars. People who wish to leave early may do so.Bring: Lunch\, beverages\, and warm clothes. A scope is very welcome.Meet: 8:00AM at the Redondo Heights Park and Ride\, 27454 Pacific Hwy S\, Federal Way\, WA 98003https://goo.gl/maps/BxnYcdDhbSivzyUS7 \n\n\n\nSign-up: Call or email Steve Johnson\, 253- 941-9852. johnsonsj5@msn.com
URL:https://rainieraudubon.org/event/fall-color-and-fall-birds-4/
CATEGORIES:Fieldtrips
ATTACH;FMTTYPE=image/jpeg:https://rainieraudubon.org/wp-content/uploads/2025/09/Coopers-Hawk.jpg
END:VEVENT
BEGIN:VEVENT
DTSTART;TZID=America/Los_Angeles:20251020T190000
DTEND;TZID=America/Los_Angeles:20251020T200000
DTSTAMP:20260423T143134
CREATED:20250917T024635Z
LAST-MODIFIED:20251016T234924Z
UID:10003168-1760986800-1760990400@rainieraudubon.org
SUMMARY:Ecology of Our Endangered “Regal” Hawk
DESCRIPTION:If you’ve driven through the arid shrub-steppe landscape in eastern Washington and caught a glimpse of an impressive hawk in striking white and rust-colored plumage you’ve probably been treated to an increasingly rare sighting – that of our largest soaring hawk\, the Ferruginous Hawk (Buteo regalis).  \n\n\n\n\n\n\n\n\n\nPlease join us as we explore unique aspects of the breeding ecology\, winter ecology\, and migration of this iconic hawk\, and how we are working to recover this endangered species. \n\n\n\nJim Watson is a Wildlife Research Scientist with the Washington Department of Fish andWildlife (WDFW) and the lead researcher for statewide raptor studies. He has spent the past 50 years studying raptors in the western United States and abroad. Jim’s research focus includes raptor population dynamics\, migration ecology\, and management of raptors in human landscapes. His recent work evaluates impacts of wind energy and lead contaminants on golden eagles and ferruginous hawks.
URL:https://rainieraudubon.org/event/ecology-of-our-endangered-regal-hawk/
LOCATION:Federal Way United Methodist Church\, 29645 51st Ave SWA 98001\, Auburn\, Washington\, 98001\, United States
CATEGORIES:Monthly Program Night
ATTACH;FMTTYPE=image/jpeg:https://rainieraudubon.org/wp-content/uploads/2025/09/Ferruginous-Hawk.jpg
END:VEVENT
END:VCALENDAR