BEGIN:VCALENDAR
VERSION:2.0
PRODID:-//RAINIER AUDUBON SOCIETY - ECPv6.15.20//NONSGML v1.0//EN
CALSCALE:GREGORIAN
METHOD:PUBLISH
X-ORIGINAL-URL:https://rainieraudubon.org
X-WR-CALDESC:Events for RAINIER AUDUBON SOCIETY
REFRESH-INTERVAL;VALUE=DURATION:PT1H
X-Robots-Tag:noindex
X-PUBLISHED-TTL:PT1H
BEGIN:VTIMEZONE
TZID:America/Los_Angeles
BEGIN:DAYLIGHT
TZOFFSETFROM:-0800
TZOFFSETTO:-0700
TZNAME:PDT
DTSTART:20250309T100000
END:DAYLIGHT
BEGIN:STANDARD
TZOFFSETFROM:-0700
TZOFFSETTO:-0800
TZNAME:PST
DTSTART:20251102T090000
END:STANDARD
BEGIN:DAYLIGHT
TZOFFSETFROM:-0800
TZOFFSETTO:-0700
TZNAME:PDT
DTSTART:20260308T100000
END:DAYLIGHT
BEGIN:STANDARD
TZOFFSETFROM:-0700
TZOFFSETTO:-0800
TZNAME:PST
DTSTART:20261101T090000
END:STANDARD
BEGIN:DAYLIGHT
TZOFFSETFROM:-0800
TZOFFSETTO:-0700
TZNAME:PDT
DTSTART:20270314T100000
END:DAYLIGHT
BEGIN:STANDARD
TZOFFSETFROM:-0700
TZOFFSETTO:-0800
TZNAME:PST
DTSTART:20271107T090000
END:STANDARD
END:VTIMEZONE
BEGIN:VEVENT
DTSTART;TZID=America/Los_Angeles:20260430T100000
DTEND;TZID=America/Los_Angeles:20260430T140000
DTSTAMP:20260423T080425
CREATED:20260219T000408Z
LAST-MODIFIED:20260322T163152Z
UID:10003185-1777543200-1777557600@rainieraudubon.org
SUMMARY:King County Regional Meeting
DESCRIPTION:This is a great opportunity to find out what our neighborhood chapters are doing\, and to share our own projects. \n\n\n\nIf you would like to join us\, please contact me at so we can register you for lunch.dan_streiffert@hotmail.com \n\n\n\nThis message is going out to chapter leaders at Birds Connect\, Eastside\, Rainier\, and Vashon.  \n\n\n\nWe have a lot to catch up on at this spring’s in-person Regional Meeting. By then: \n\n\n\n\nThe 2026 legislative session will be complete\n\n\n\nWe may have a new policy lead on staff\n\n\n\nProgress will be underway on Lights Out Washington\n\n\n\nPlanning will be ramping up for Bird Week/ACOW 2026 this October in Bellingham\n\n\n\nSpring birding festivals will be in full swing\n\n\n\n\nIt will also be a great opportunity for our new(ish) VP\, Amanda Kaplan\, to meet your chapters in person. \n\n\n\n\n\n\n\n\n\n\n\n\n\n← Back Thank you for your response. ✨\n\n\n					\n						\n							\n							\n						\n						\n						\n						\n						\n							\n								\n									\n										\n										\n									\n									\n										\n										\n									\n								\n							\n						\n						\n							\n								\n									\n									\n										\n									\n									\n									\n								\n							\n						\n					\n				\n\n\n\n\nEmail(required)\n\n \n			\n				\n					\n						\n						\n						\n					\n				\n				\n			 \n	\n\n\n\nSubmit\n\n\n				\n					\n				\n						\n		\n		\nΔ
URL:https://rainieraudubon.org/event/king-county-regional-meeting/
LOCATION:Seward Park Audubon Center\, 5900 Lake Washington Blvd S\, Seattle\, Washington\, 98118\, United States
END:VEVENT
END:VCALENDAR