BEGIN:VCALENDAR
VERSION:2.0
PRODID:-//RAINIER AUDUBON SOCIETY - ECPv6.15.20//NONSGML v1.0//EN
CALSCALE:GREGORIAN
METHOD:PUBLISH
X-WR-CALNAME:RAINIER AUDUBON SOCIETY
X-ORIGINAL-URL:https://rainieraudubon.org
X-WR-CALDESC:Events for RAINIER AUDUBON SOCIETY
REFRESH-INTERVAL;VALUE=DURATION:PT1H
X-Robots-Tag:noindex
X-PUBLISHED-TTL:PT1H
BEGIN:VTIMEZONE
TZID:America/Los_Angeles
BEGIN:DAYLIGHT
TZOFFSETFROM:-0800
TZOFFSETTO:-0700
TZNAME:PDT
DTSTART:20220313T100000
END:DAYLIGHT
BEGIN:STANDARD
TZOFFSETFROM:-0700
TZOFFSETTO:-0800
TZNAME:PST
DTSTART:20221106T090000
END:STANDARD
BEGIN:DAYLIGHT
TZOFFSETFROM:-0800
TZOFFSETTO:-0700
TZNAME:PDT
DTSTART:20230312T100000
END:DAYLIGHT
BEGIN:STANDARD
TZOFFSETFROM:-0700
TZOFFSETTO:-0800
TZNAME:PST
DTSTART:20231105T090000
END:STANDARD
BEGIN:DAYLIGHT
TZOFFSETFROM:-0800
TZOFFSETTO:-0700
TZNAME:PDT
DTSTART:20240310T100000
END:DAYLIGHT
BEGIN:STANDARD
TZOFFSETFROM:-0700
TZOFFSETTO:-0800
TZNAME:PST
DTSTART:20241103T090000
END:STANDARD
END:VTIMEZONE
BEGIN:VEVENT
DTSTART;TZID=America/Los_Angeles:20230220T190000
DTEND;TZID=America/Los_Angeles:20230220T200000
DTSTAMP:20260423T131049
CREATED:20220816T015916Z
LAST-MODIFIED:20230220T161152Z
UID:10001060-1676919600-1676923200@rainieraudubon.org
SUMMARY:Malheur National Wildlife Refuge in June
DESCRIPTION:by Dan Streiffert \n\n\n\n\n\n\n\n\n\n\n				\nRose-breasted Grosbeak\n\n\n\nI have been going to Malheur NWR for about 15 years now and still think it has the best birding in the Pacific Northwest.  Most years I go in April for the Migratory Bird Festival in Burns\, Oregon. Last year I spent the month of June there hoping for opportunities to photograph newborn chicks – particularly the Sandhill Cranes and Burrowing Owls.   \n\n\n\nI spent the month as a volunteer with the Friends of Malheur\, working half-time at ther Visitor Center and spending my free time mostly photographing wildlife. Join us to see the results. \n\n\n\nThis will be a hybrid meeting.  Join us by Zoom or come to the church. \n\n\n\nFor more about Malheur Refuge\, watch this! \n\n\n\n\nMalheur National Wildlife Refuge: Past\, Present and Future\n\n\n\n\nVideo Note\n\n\n\nThis presentation is done in Power Point and includes several videos.  These do not play very well in Zoom.  So I have added them in a Post\, so that you can view them either before the Zoom meeting or after. \n\n\n\n\nVideos from Malheur In June 20\, 2023 Presentation\n\n\n\n\nDan Streiffert is inviting you to a scheduled Zoom meeting. \n\n\n\nTopic: Malheur in JuneTime: Feb 20\, 2023 06:30 PM Pacific Time (US and Canada) \n\n\n\nJoin Zoom Meetinghttps://us06web.zoom.us/j/88166018083?pwd=TnFQZ2JuMllDaml0WmsyK1hqcysrQT09 \n\n\n\nMeeting ID: 881 6601 8083Passcode: 380391One tap mobile+12532158782\,\,88166018083#\,\,\,\,380391# US (Tacoma) +12532050468\,\,88166018083#\,\,\,\,380391# US \n\n\n\nDial by your location+1 253 215 8782 US (Tacoma)+1 253 205 0468 US+1 669 444 9171 US+1 669 900 6833 US (San Jose)+1 719 359 4580 US+1 346 248 7799 US (Houston)+1 408 638 0968 US (San Jose)+1 301 715 8592 US (Washington DC)+1 305 224 1968 US+1 309 205 3325 US+1 312 626 6799 US (Chicago)+1 360 209 5623 US+1 386 347 5053 US+1 507 473 4847 US+1 564 217 2000 US+1 646 876 9923 US (New York)+1 646 931 3860 US+1 689 278 1000 USMeeting ID: 881 6601 8083Passcode: 380391Find your local number: https://us06web.zoom.us/u/kdqZnZFMaL \n\n\n\nAdd to: \n\n\n\nGoogle Calendar \n\n\n\n Outlook Calendar (.ics) \n\n\n\n Yahoo Calendar \n\n\n\n\n\n\n\n\n\n\n\n\n	Related
URL:https://rainieraudubon.org/event/malheur-national-wildlife-refuge/
LOCATION:United Methodist Church\, 29645 51st Ave.South\, Auburn\, Washington\, 98001\, United States
CATEGORIES:Monthly Program Night
ATTACH;FMTTYPE=image/jpeg:https://rainieraudubon.org/wp-content/uploads/2022/05/2022-04-18_DLS_0308.jpg
ORGANIZER;CN="Dan Streiffert":MAILTO:dan_streiffert@hotmail.com
END:VEVENT
END:VCALENDAR