BEGIN:VCALENDAR
VERSION:2.0
PRODID:-//RAINIER AUDUBON SOCIETY - ECPv6.15.20//NONSGML v1.0//EN
CALSCALE:GREGORIAN
METHOD:PUBLISH
X-WR-CALNAME:RAINIER AUDUBON SOCIETY
X-ORIGINAL-URL:https://rainieraudubon.org
X-WR-CALDESC:Events for RAINIER AUDUBON SOCIETY
REFRESH-INTERVAL;VALUE=DURATION:PT1H
X-Robots-Tag:noindex
X-PUBLISHED-TTL:PT1H
BEGIN:VTIMEZONE
TZID:America/Los_Angeles
BEGIN:DAYLIGHT
TZOFFSETFROM:-0800
TZOFFSETTO:-0700
TZNAME:PDT
DTSTART:20220313T100000
END:DAYLIGHT
BEGIN:STANDARD
TZOFFSETFROM:-0700
TZOFFSETTO:-0800
TZNAME:PST
DTSTART:20221106T090000
END:STANDARD
BEGIN:DAYLIGHT
TZOFFSETFROM:-0800
TZOFFSETTO:-0700
TZNAME:PDT
DTSTART:20230312T100000
END:DAYLIGHT
BEGIN:STANDARD
TZOFFSETFROM:-0700
TZOFFSETTO:-0800
TZNAME:PST
DTSTART:20231105T090000
END:STANDARD
BEGIN:DAYLIGHT
TZOFFSETFROM:-0800
TZOFFSETTO:-0700
TZNAME:PDT
DTSTART:20240310T100000
END:DAYLIGHT
BEGIN:STANDARD
TZOFFSETFROM:-0700
TZOFFSETTO:-0800
TZNAME:PST
DTSTART:20241103T090000
END:STANDARD
END:VTIMEZONE
BEGIN:VEVENT
DTSTART;TZID=America/Los_Angeles:20230116T190000
DTEND;TZID=America/Los_Angeles:20230116T200000
DTSTAMP:20260424T133710
CREATED:20220816T020654Z
LAST-MODIFIED:20230115T222619Z
UID:10001061-1673895600-1673899200@rainieraudubon.org
SUMMARY:SEATTLE’S ADAPTABLE URBAN COOPER’S HAWKS
DESCRIPTION:by Ed Deal \n\n\n\n\n\nEd Deal with Cooper’s Hawk\n\n\n\nThirty years ago\, Cooper’s Hawks began colonizing urban and suburban landscapes throughout the US\, developing a tolerance for living in proximity to humans. Ed Deal\, from Seattle’s Urban Raptor Conservancy\, will provide insights into these common but elusive raptors.  \n\n\n\nThe Seattle Cooper’s Hawk Project is one of several studies in large US cities (e.g.\, Milwaukee\, Albuquerque) and the only all-volunteer\, community science project. Since 2012 the group has monitored the local Cooper’s Hawk population nesting density and annual nest productivity. A color-ID banding program helps us track fledgling dispersal\, longevity\, and adult breeding site and winter site fidelity.  \n\n\n\nStudy results show annual increases in nesting pairs\, high nest success rates\, high fledgling productivity\, little evidence of migration\, strong site fidelity and mostly short natal dispersal distances. In 2012 we documented 26 nesting attempts\, with 22 successful nests producing 70 fledglings. In 2022 volunteers monitored 61 nesting attempts within the Seattle city limits. Forty-eight nests succeeded\, producing 167 fledglings.  \n\n\n\nSuccessful nest productivity is consistently high\, averaging 3.6 fledglings per successful nest. To date we have banded almost 500 Coops and accumulated over 640 repeat sightings. 46% of our banded birds are resighted. Our population has nearly tripled in just 10 years. It will be interesting to see when they reach carrying capacity. \n\n\n\nYou would think someone born in Cooper Hospital and raised in Audubon\, NJ would be a child prodigy birder. But Ed’s mid-life conversion involved taking Bud Anderson’s Hawk ID class in 1991. He went on to volunteer on Fall Migration hawk banding projects in the Goshutes Mtn\, NV\, Florida Keys and Cape May\, NJ\, in addition to Diamond Head\, Chelan Ridge and Entiat Ridge in WA. He volunteered on Falcon Research Group’s entire 17-year study of nesting Peregrine Falcons in the San Juan Islands and completed his 29th year monitoring & banding nesting Peregrines in the Seattle area. For the last 11 years he has worked with a group of volunteers studying the expanding urban population of Cooper’s Hawks in Seattle. He holds a Federal Master Raptor Banding Permit. He is a graduate of the Seattle Audubon Master Birder Program and a recovering lister. \n\n\n\nThis will be a hybrid meeting.  \n\n\n\nGeorge Galvin is inviting you to a scheduled Zoom meeting. \n\n\n\nTopic: RAS January 2023 Membership MeetingTime: Jan 16\, 2023 06:30 PM Pacific Time (US and Canada) \n\n\n\nJoin Zoom Meetinghttps://us06web.zoom.us/j/85988024910?pwd=SFpqSlR6RlFkQ1Y0VUZzaElwWEs0Zz09 \n\n\n\nMeeting ID: 859 8802 4910Passcode: 963441 \n\n\n\n\n\n\n\n\n\n\n\n\n	Related
URL:https://rainieraudubon.org/event/urban-coopers-hawks/
LOCATION:United Methodist Church\, 29645 51st Ave.South\, Auburn\, Washington\, 98001\, United States
CATEGORIES:Monthly Program Night
ATTACH;FMTTYPE=image/jpeg:https://rainieraudubon.org/wp-content/uploads/2022/08/2012-12-26_279-DLS-2-Edit.jpg
END:VEVENT
END:VCALENDAR