BEGIN:VCALENDAR
VERSION:2.0
PRODID:-//RAINIER AUDUBON SOCIETY - ECPv6.15.20//NONSGML v1.0//EN
CALSCALE:GREGORIAN
METHOD:PUBLISH
X-ORIGINAL-URL:https://rainieraudubon.org
X-WR-CALDESC:Events for RAINIER AUDUBON SOCIETY
REFRESH-INTERVAL;VALUE=DURATION:PT1H
X-Robots-Tag:noindex
X-PUBLISHED-TTL:PT1H
BEGIN:VTIMEZONE
TZID:America/Los_Angeles
BEGIN:DAYLIGHT
TZOFFSETFROM:-0800
TZOFFSETTO:-0700
TZNAME:PDT
DTSTART:20240310T100000
END:DAYLIGHT
BEGIN:STANDARD
TZOFFSETFROM:-0700
TZOFFSETTO:-0800
TZNAME:PST
DTSTART:20241103T090000
END:STANDARD
BEGIN:DAYLIGHT
TZOFFSETFROM:-0800
TZOFFSETTO:-0700
TZNAME:PDT
DTSTART:20250309T100000
END:DAYLIGHT
BEGIN:STANDARD
TZOFFSETFROM:-0700
TZOFFSETTO:-0800
TZNAME:PST
DTSTART:20251102T090000
END:STANDARD
BEGIN:DAYLIGHT
TZOFFSETFROM:-0800
TZOFFSETTO:-0700
TZNAME:PDT
DTSTART:20260308T100000
END:DAYLIGHT
BEGIN:STANDARD
TZOFFSETFROM:-0700
TZOFFSETTO:-0800
TZNAME:PST
DTSTART:20261101T090000
END:STANDARD
END:VTIMEZONE
BEGIN:VEVENT
DTSTART;TZID=America/Los_Angeles:20250120T190000
DTEND;TZID=America/Los_Angeles:20250120T200000
DTSTAMP:20260423T131828
CREATED:20241027T163804Z
LAST-MODIFIED:20250106T042142Z
UID:10003139-1737399600-1737403200@rainieraudubon.org
SUMMARY:Malheur National Wildlife Refuge - 2024
DESCRIPTION:By Dan Streiffert \n\n\n\nIn 2024 I managed to make three trips to the Malheur Wildlife Refuge. The first in April\, for their Migratory Bird Festival.  The second the last two weeks in May. And the last in September for the Fall migration. \n\n\n\n\n\n\n\n\n\n\n\n\n\n\n\n\n\n\n\n\n\n\n\n\n\n\n\n\n\n\n\n\n\n\n\n\n\nApril was very dry due to almost no snowpack on Steens Mountain resulting in almost no water for irrigating the hay fields which is normally a big draw for the migrating birds.  Fortunately\, it rained a lot for the next two months making everything green by the end of May.  By September\, everything had dried up again. \n\n\n\nDespite all the dry weather\, Malheur always provides entertainment especially when you least expect it. \n\n\n\n\n\n\n\n\n\n\n	Related
URL:https://rainieraudubon.org/event/january-program-night-tbd/
CATEGORIES:Monthly Program Night
ATTACH;FMTTYPE=image/webp:https://rainieraudubon.org/wp-content/uploads/2024/10/53752844307_e8843baebc_c-1.webp
END:VEVENT
END:VCALENDAR