BEGIN:VCALENDAR
VERSION:2.0
PRODID:-//RAINIER AUDUBON SOCIETY - ECPv6.15.20//NONSGML v1.0//EN
CALSCALE:GREGORIAN
METHOD:PUBLISH
X-ORIGINAL-URL:https://rainieraudubon.org
X-WR-CALDESC:Events for RAINIER AUDUBON SOCIETY
REFRESH-INTERVAL;VALUE=DURATION:PT1H
X-Robots-Tag:noindex
X-PUBLISHED-TTL:PT1H
BEGIN:VTIMEZONE
TZID:America/Los_Angeles
BEGIN:DAYLIGHT
TZOFFSETFROM:-0800
TZOFFSETTO:-0700
TZNAME:PDT
DTSTART:20210314T100000
END:DAYLIGHT
BEGIN:STANDARD
TZOFFSETFROM:-0700
TZOFFSETTO:-0800
TZNAME:PST
DTSTART:20211107T090000
END:STANDARD
BEGIN:DAYLIGHT
TZOFFSETFROM:-0800
TZOFFSETTO:-0700
TZNAME:PDT
DTSTART:20220313T100000
END:DAYLIGHT
BEGIN:STANDARD
TZOFFSETFROM:-0700
TZOFFSETTO:-0800
TZNAME:PST
DTSTART:20221106T090000
END:STANDARD
BEGIN:DAYLIGHT
TZOFFSETFROM:-0800
TZOFFSETTO:-0700
TZNAME:PDT
DTSTART:20230312T100000
END:DAYLIGHT
BEGIN:STANDARD
TZOFFSETFROM:-0700
TZOFFSETTO:-0800
TZNAME:PST
DTSTART:20231105T090000
END:STANDARD
END:VTIMEZONE
BEGIN:VEVENT
DTSTART;TZID=America/Los_Angeles:20220709T090000
DTEND;TZID=America/Los_Angeles:20220709T120000
DTSTAMP:20260423T115152
CREATED:20220707T140837Z
LAST-MODIFIED:20220707T141732Z
UID:10001053-1657357200-1657368000@rainieraudubon.org
SUMMARY:Soos Creek Park Habitat Enhancement Work Party
DESCRIPTION:Friends of Soos Creek Park   \n\n\n\nVOLUNTEER OPPORTUNITY \n\n\n\n\n\nMeet along the Soos Creek Trail; 1/4 mile south of the Gary Grant parking lot (13600 SE 208th Street\, Kent) \n\n\n\nVolunteers must be fully vaccinated and need to show proof of vaccination. Volunteers need to sign a King County waiver form. You must sign up in advance to participate. Here’s the link .  TreePlotter – King County Parks (pg-cloud.com)Wear work clothes and bring your work gloves. Masks are optional.\n\n\n\nQuestions? Contact Tina Miller at tina.miller55@gmail.com. \n\n\n\nJoe Miles \n\n\n\nFriends of Soos Creek Park \n\n\n\nfriendsofsooscreekpark@q.com \n\n\n\nCheck us out on Facebook !!! \n\n\n\n\n\n\n\n\n\n\n	Related
URL:https://rainieraudubon.org/event/soos-creek-park-habitat-enhancement-work-party/
LOCATION:<br>Soos Creek Trail\, 13600 SE 208th Street\,\, Kent\, Washington\, 98042\, United States
CATEGORIES:Work Party
ATTACH;FMTTYPE=image/jpeg:https://rainieraudubon.org/wp-content/uploads/2021/08/great-blue-heron-4.jpg
ORGANIZER;CN="Tina Miller":MAILTO:tina.miller55@gmail.com
END:VEVENT
END:VCALENDAR