BEGIN:VCALENDAR
VERSION:2.0
PRODID:-//RAINIER AUDUBON SOCIETY - ECPv6.15.20//NONSGML v1.0//EN
CALSCALE:GREGORIAN
METHOD:PUBLISH
X-ORIGINAL-URL:https://rainieraudubon.org
X-WR-CALDESC:Events for RAINIER AUDUBON SOCIETY
REFRESH-INTERVAL;VALUE=DURATION:PT1H
X-Robots-Tag:noindex
X-PUBLISHED-TTL:PT1H
BEGIN:VTIMEZONE
TZID:America/Los_Angeles
BEGIN:DAYLIGHT
TZOFFSETFROM:-0800
TZOFFSETTO:-0700
TZNAME:PDT
DTSTART:20220313T100000
END:DAYLIGHT
BEGIN:STANDARD
TZOFFSETFROM:-0700
TZOFFSETTO:-0800
TZNAME:PST
DTSTART:20221106T090000
END:STANDARD
BEGIN:DAYLIGHT
TZOFFSETFROM:-0800
TZOFFSETTO:-0700
TZNAME:PDT
DTSTART:20230312T100000
END:DAYLIGHT
BEGIN:STANDARD
TZOFFSETFROM:-0700
TZOFFSETTO:-0800
TZNAME:PST
DTSTART:20231105T090000
END:STANDARD
BEGIN:DAYLIGHT
TZOFFSETFROM:-0800
TZOFFSETTO:-0700
TZNAME:PDT
DTSTART:20240310T100000
END:DAYLIGHT
BEGIN:STANDARD
TZOFFSETFROM:-0700
TZOFFSETTO:-0800
TZNAME:PST
DTSTART:20241103T090000
END:STANDARD
BEGIN:DAYLIGHT
TZOFFSETFROM:-0800
TZOFFSETTO:-0700
TZNAME:PDT
DTSTART:20250309T100000
END:DAYLIGHT
BEGIN:STANDARD
TZOFFSETFROM:-0700
TZOFFSETTO:-0800
TZNAME:PST
DTSTART:20251102T090000
END:STANDARD
BEGIN:DAYLIGHT
TZOFFSETFROM:-0800
TZOFFSETTO:-0700
TZNAME:PDT
DTSTART:20260308T100000
END:DAYLIGHT
BEGIN:STANDARD
TZOFFSETFROM:-0700
TZOFFSETTO:-0800
TZNAME:PST
DTSTART:20261101T090000
END:STANDARD
END:VTIMEZONE
BEGIN:VEVENT
DTSTART;TZID=America/Los_Angeles:20250215T100000
DTEND;TZID=America/Los_Angeles:20250215T140000
DTSTAMP:20260425T053906
CREATED:20250109T035311Z
LAST-MODIFIED:20250128T002438Z
UID:10003146-1739613600-1739628000@rainieraudubon.org
SUMMARY:Burien Bird Festival
DESCRIPTION:““This free festival is a great experience for all bird lovers from beginning to seasoned bird watchers.” \n\n\n\n\n\n\n\n\n\n\n\n\n\n\n	Related
URL:https://rainieraudubon.org/event/burien-bird-festival/
LOCATION:Burien Community Center\, 14700 6th Ave.\, Burien\, Washington\, 98166\, United States
CATEGORIES:Bird Festivals
ATTACH;FMTTYPE=image/jpeg:https://rainieraudubon.org/wp-content/uploads/2025/01/2025-Birdfest-Flyer_toprint.jpg
END:VEVENT
BEGIN:VEVENT
DTSTART;TZID=America/Los_Angeles:20230218T100000
DTEND;TZID=America/Los_Angeles:20230218T140000
DTSTAMP:20260425T053906
CREATED:20230120T050017Z
LAST-MODIFIED:20230120T050226Z
UID:10001177-1676714400-1676728800@rainieraudubon.org
SUMMARY:Burien Bird Fest
DESCRIPTION:Bird Walks: 10:30 AM\, 11:30 AM\, 12:30 PM\, and 1:30 PM. \n\n\n\nPresentations: Our 12:00 PM and 1:00 PM presentations will also be live streamed with registration on our website. \n\n\n\n\n11:00 AM: Feathers & Friends (Family Nature Hike) with Tiny Trees Preschool\n\n\n\n12:00 PM: Owls in Seattle with Ed Dominguez from Seward Park Audubon Center\n\n\n\n1:00 PM: Bird Watching & Home Habitats with Kelsey Hansen from WDFW’s Habitat at Home and Watchable Wildlife program\n\n\n\n\nThere will be crafts and hands-on activities outside the building all day as well as a door raffle with prizes donated by Wild Birds Unlimited in Burien.  \n\n\n\nPlease find our 2023 flyer attached to this email as both a PDF and JPG for you to share with your community! Spread the info far and wide! All are welcome! We do currently have advanced registration for our bird walks and presentations open on our website at: https://envsciencecenter.org/bird-fest/ . Half of the spots are open for advanced registration and the other half will be open to day of participants.  \n\n\n\n\n\n\n\n\n\n\n\n\n	Related
URL:https://rainieraudubon.org/event/burien-bird-fest/
LOCATION:Burien Community Center\, 14700 6th Ave.\, Burien\, Washington\, 98166\, United States
CATEGORIES:Bird Festivals
ATTACH;FMTTYPE=image/jpeg:https://rainieraudubon.org/wp-content/uploads/2023/01/2023-Birdfest-Flyer-e1674190654938.jpg
END:VEVENT
END:VCALENDAR