BEGIN:VCALENDAR
VERSION:2.0
PRODID:-//RAINIER AUDUBON SOCIETY - ECPv6.15.20//NONSGML v1.0//EN
CALSCALE:GREGORIAN
METHOD:PUBLISH
X-ORIGINAL-URL:https://rainieraudubon.org
X-WR-CALDESC:Events for RAINIER AUDUBON SOCIETY
REFRESH-INTERVAL;VALUE=DURATION:PT1H
X-Robots-Tag:noindex
X-PUBLISHED-TTL:PT1H
BEGIN:VTIMEZONE
TZID:America/Los_Angeles
BEGIN:DAYLIGHT
TZOFFSETFROM:-0800
TZOFFSETTO:-0700
TZNAME:PDT
DTSTART:20210314T100000
END:DAYLIGHT
BEGIN:STANDARD
TZOFFSETFROM:-0700
TZOFFSETTO:-0800
TZNAME:PST
DTSTART:20211107T090000
END:STANDARD
BEGIN:DAYLIGHT
TZOFFSETFROM:-0800
TZOFFSETTO:-0700
TZNAME:PDT
DTSTART:20220313T100000
END:DAYLIGHT
BEGIN:STANDARD
TZOFFSETFROM:-0700
TZOFFSETTO:-0800
TZNAME:PST
DTSTART:20221106T090000
END:STANDARD
BEGIN:DAYLIGHT
TZOFFSETFROM:-0800
TZOFFSETTO:-0700
TZNAME:PDT
DTSTART:20230312T100000
END:DAYLIGHT
BEGIN:STANDARD
TZOFFSETFROM:-0700
TZOFFSETTO:-0800
TZNAME:PST
DTSTART:20231105T090000
END:STANDARD
END:VTIMEZONE
BEGIN:VEVENT
DTSTART;TZID=America/Los_Angeles:20220930T000000
DTEND;TZID=America/Los_Angeles:20221002T235959
DTSTAMP:20260424T133816
CREATED:20220808T031253Z
LAST-MODIFIED:20220808T031257Z
UID:10001055-1664496000-1664755199@rainieraudubon.org
SUMMARY:Audubon Conference of Washington (ACOW)
DESCRIPTION:Audubon Washington and the chapters of the Northwest II region are pleased to welcome back chapter leaders from across Washington State for an in-person weekend of community and conservation. We’ll meet in the newly-renovated Dungeness River Nature Center in Sequim\, a partnership between the Jamestown S’Klallam Tribe and the Olympic Peninsula Audubon Society.  \n\n\n\nWhat to expect: \n\n\n\nHelen Engle Volunteer of the Year AwardField TripsShared Conservation IssuesEducation Strategies across AudubonLegislator PanelAudubon Partnerships with TribesNew Migration Mapping Project from National Audubon\n\n\n\nSchedule of Events: \n\n\n\nFriday\, September 30 from 2:00PM – 8:00PM \n\n\n\nWe’ll discuss the latest statewide conservation work and hear chapter resolutions from the Washington State Conservation Council (WSACC). Refreshments and a pizza dinner will be provided.   \n\n\n\nSaturday\, October 1 from 9:00AM – 6:00PM \n\n\n\nSessions and workshops will help us tackle some of the biggest conservation challenges in Washington. Author and naturalist Lyanda Haupt will be the keynote speaker. Refreshments\, lunch\, and a catered reception will be provided.Sunday\, October 2 – Optional field trip day \n\n\n\nVisit the ACOW homepage for details on the schedule\, field trip sign-ups\, lodging\, and COVID protocols. \n\n\n\nRegister Here!  \n\n\n\n\n\n\n\n\n\n\n\n\n	Related
URL:https://rainieraudubon.org/event/audubon-conference-of-washington-acow/
LOCATION:Dungeness River Nature Center in Sequim\, 1943 W Hendrickson Rd\, Sequim\, Washington\, 98382\, United States
CATEGORIES:Bird Festivals,Meeting
ATTACH;FMTTYPE=image/png:https://rainieraudubon.org/wp-content/uploads/2022/08/Dungeness.png
END:VEVENT
END:VCALENDAR