BEGIN:VCALENDAR
VERSION:2.0
PRODID:-//RAINIER AUDUBON SOCIETY - ECPv6.15.20//NONSGML v1.0//EN
CALSCALE:GREGORIAN
METHOD:PUBLISH
X-ORIGINAL-URL:https://rainieraudubon.org
X-WR-CALDESC:Events for RAINIER AUDUBON SOCIETY
REFRESH-INTERVAL;VALUE=DURATION:PT1H
X-Robots-Tag:noindex
X-PUBLISHED-TTL:PT1H
BEGIN:VTIMEZONE
TZID:America/Los_Angeles
BEGIN:DAYLIGHT
TZOFFSETFROM:-0800
TZOFFSETTO:-0700
TZNAME:PDT
DTSTART:20210314T100000
END:DAYLIGHT
BEGIN:STANDARD
TZOFFSETFROM:-0700
TZOFFSETTO:-0800
TZNAME:PST
DTSTART:20211107T090000
END:STANDARD
BEGIN:DAYLIGHT
TZOFFSETFROM:-0800
TZOFFSETTO:-0700
TZNAME:PDT
DTSTART:20220313T100000
END:DAYLIGHT
BEGIN:STANDARD
TZOFFSETFROM:-0700
TZOFFSETTO:-0800
TZNAME:PST
DTSTART:20221106T090000
END:STANDARD
BEGIN:DAYLIGHT
TZOFFSETFROM:-0800
TZOFFSETTO:-0700
TZNAME:PDT
DTSTART:20230312T100000
END:DAYLIGHT
BEGIN:STANDARD
TZOFFSETFROM:-0700
TZOFFSETTO:-0800
TZNAME:PST
DTSTART:20231105T090000
END:STANDARD
BEGIN:DAYLIGHT
TZOFFSETFROM:-0800
TZOFFSETTO:-0700
TZNAME:PDT
DTSTART:20240310T100000
END:DAYLIGHT
BEGIN:STANDARD
TZOFFSETFROM:-0700
TZOFFSETTO:-0800
TZNAME:PST
DTSTART:20241103T090000
END:STANDARD
BEGIN:DAYLIGHT
TZOFFSETFROM:-0800
TZOFFSETTO:-0700
TZNAME:PDT
DTSTART:20250309T100000
END:DAYLIGHT
BEGIN:STANDARD
TZOFFSETFROM:-0700
TZOFFSETTO:-0800
TZNAME:PST
DTSTART:20251102T090000
END:STANDARD
BEGIN:DAYLIGHT
TZOFFSETFROM:-0800
TZOFFSETTO:-0700
TZNAME:PDT
DTSTART:20260308T100000
END:DAYLIGHT
BEGIN:STANDARD
TZOFFSETFROM:-0700
TZOFFSETTO:-0800
TZNAME:PST
DTSTART:20261101T090000
END:STANDARD
END:VTIMEZONE
BEGIN:VEVENT
DTSTART;TZID=America/Los_Angeles:20250607T090000
DTEND;TZID=America/Los_Angeles:20250607T160000
DTSTAMP:20260424T173419
CREATED:20250109T040712Z
LAST-MODIFIED:20250429T180600Z
UID:10003147-1749286800-1749312000@rainieraudubon.org
SUMMARY:Rainier Audubon Nature Festival 2025
DESCRIPTION:Join us for the 2025 Rainier Audubon Nature Festival at Flaming Geyser State Park. \n\n\n\n\n\n\n\n\n\n\n\n\n\n\n\n\n\n\n\n\n\n\n\n\n\n\n\n\n\n\n\n\n\n\n\n\n\n\n\n\n\nThis wonderful state park is only 15 minutes east of downtown Auburn\, on Green Valley Road. The event is Saturday\, June 7\, 2025\, from 9:00 am to 4:00 pm.Our feature presentation is a live bird show. “The Falconer” will present several raptors\, including a hawk\, falcon\, owl\, vulture\, and an eagle. Other activities include presentations on native plants\, mushrooms\, bats\, wildlife rehabilitation\, wildlife conservation\, gardening\, astronomy\, geology\, and local birds.The kids can paint birdhouses at the crafts station while you parents enjoy the exhibits. Bird lovers of all ages can learn how to attract our avian friends using nest boxes and feeders\, and bird identification\, and native plant walks will be held throughout the day. Amateur astronomers will have telescopes available to safely view sunspots outside the park lodge.Bring the family and your binoculars along for a day of “Birding and Learning.” This is a FREE ENTRY day at Flaming Geyser State Park. No Discover Pass is required. \n\n\n\nNo food or potable water is available at the park! \n\n\n\nAll presentations and activities start at the park Lodge. \n\n\n\n\nIndoor PresentationsTimeGeology of FGSP10:00 – 10:15“The Falconer” : Live Birds11:00 – 12:45Astronomy: “The Sun”1:00 – 1:30Astronomy: “Dark Skies”1:30 – 2:00The American Kestrel2:00 – 2:30Nature ExhibitsAll dayOutdoor ActivitiesTimeBird Identification Walk9:00 – 10:00Geology of FGSP Walk10:15 – 11:00Bird Walk1:00 – 2:00Native Plant Walk2:00 – 3:00Kestrel Nest Hole Walk2:30 – 3:30Solar Telescope ViewingAll Day\n\n\n\n\n\n\n\n\n\n\n\n\n\n\n\nFlaming Geyser State Park\n\n\n\n\nBest Trails in Flaming Geyser State Parkhttps://www.alltrails.com/parks/us/washington/flaming-geyser-state-park \n\n\n\nPhotos and videos of the parkhttps://flic.kr/s/aHsmHGT2XD \n\n\n\n\n\n\n\n\n\n\n\n\n	Related
URL:https://rainieraudubon.org/event/rainier-audubon-nature-festival-2025/
LOCATION:Flaming Geyser State Park\, 23700 SE Flaming Geyser Rd\, Auburn\, Washington\, 98092\, United States
CATEGORIES:Bird Festivals
ATTACH;FMTTYPE=image/jpeg:https://rainieraudubon.org/wp-content/uploads/2025/01/Falconer-2.jpg
END:VEVENT
BEGIN:VEVENT
DTSTART;TZID=America/Los_Angeles:20250517T090000
DTEND;TZID=America/Los_Angeles:20250517T110000
DTSTAMP:20260424T173419
CREATED:20241017T213951Z
LAST-MODIFIED:20250119T175005Z
UID:10003132-1747472400-1747479600@rainieraudubon.org
SUMMARY:In-person Nature Journaling Outing - Flaming Geyser State Park
DESCRIPTION:These outings are informal gatherings. We will gather in an area and people can explore together or individually. The last 30 minutes of our session\, we will come together and share our experiences. Minors (under 18 years of age) must be accompanied by an adult. \n\n\n\nWhat to bring: Whatever you want to use to record information: \n\n\n\n\na pencil/pen\, some paper and a clipboard or a journal\,\n\n\n\ncolor such as watercolor or colored pencils (optional)\n\n\n\nsomething to sit on if you need\, like a thermal foam pad or a portable seat (optional)\n\n\n\n\nTo register for in-person outings\, please email Cindy atcindy.flanagan.nature.studio@gmail.com \n\n\n\n\n\n\n\n\n\n\n\n\n	Related
URL:https://rainieraudubon.org/event/in-person-nature-journaling-outing-flaming-geyser-state-park/
LOCATION:Flaming Geyser State Park\, 23700 SE Flaming Geyser Rd\, Auburn\, Washington\, 98092\, United States
CATEGORIES:Nature Journaling
ATTACH;FMTTYPE=image/jpeg:https://rainieraudubon.org/wp-content/uploads/2024/11/Douglas-Fir-Cone-Study-NJ-Page.jpg
END:VEVENT
BEGIN:VEVENT
DTSTART;TZID=America/Los_Angeles:20230527T090000
DTEND;TZID=America/Los_Angeles:20230527T150000
DTSTAMP:20260424T173419
CREATED:20230311T163101Z
LAST-MODIFIED:20230525T211310Z
UID:10001188-1685178000-1685199600@rainieraudubon.org
SUMMARY:Rainier Audubon Society's 2nd Annual Nature Festival
DESCRIPTION:No food service available.  Bring your own picknic!\n\n\n\nAlso\, no drinkable water is available.  Bring your own water!\n\n\n\n2023 Nature Festival Schedule of Events\n\n\n\n\n9 AM Guided Bird Walk – Joe Miles\, Steve Johnson\n\n\n\n\n\n10 AMVideo – The Water Ouzel – A joint presentation by Dan Streiffert and John Muir (From “The Mountains of California Chapter 13”) https://vault.sierraclub.org/john_muir_exhibit/writings/the_mountains_of_california/chapter_13.aspx\n\nGuided Bird Walk – Joe Miles\, Steve Johnson\n\n\n\n\n\n\n\n11 AMGuided Bird Walk – Joe Miles\, Steve Johnson\n\nNative Plant Walk – Native Plant Society (Franja Bryant)\n\n\n\n\n\n\n\n12 PM\n\nVideo  – Native Plants for Backyard Birds by  Marie West- Johnson\n\n\n\n\n\n\n\n1 PMGuided Nature Walk – Barbara Petersen\n\nNative Plants walk by Native Plant Society (Franja Bryant)\n\n\n\n\n\n\n\n2 PM\n\nVideo – Flaming Geyser Denizens – Jay Galvin      \n\n\n\n\n\n\nFollow this page for recent updates and scheduled events\, \n\n\n\nWe have been approved to use the lodge for the Festival this year. \n\n\n\n\n\n\n\n\n\n\n\n\n\n\n\n\n\n\n	Related
URL:https://rainieraudubon.org/event/rainier-audubon-society-bird-festival/
LOCATION:Flaming Geyser State Park\, 23700 SE Flaming Geyser Rd\, Auburn\, Washington\, 98092\, United States
CATEGORIES:Bird Festivals
ATTACH;FMTTYPE=image/jpeg:https://rainieraudubon.org/wp-content/uploads/2023/03/2023-Nature-festival-1-1.jpg
END:VEVENT
BEGIN:VEVENT
DTSTART;TZID=America/Los_Angeles:20220625T120000
DTEND;TZID=America/Los_Angeles:20220625T130000
DTSTAMP:20260424T173419
CREATED:20220604T140233Z
LAST-MODIFIED:20220609T002622Z
UID:10001050-1656158400-1656162000@rainieraudubon.org
SUMMARY:12 pm Festival Bird Walk Registration
DESCRIPTION:Related
URL:https://rainieraudubon.org/event/12-pm-festival-bird-walk-registration/
LOCATION:Flaming Geyser State Park\, 23700 SE Flaming Geyser Rd\, Auburn\, Washington\, 98092\, United States
END:VEVENT
BEGIN:VEVENT
DTSTART;TZID=America/Los_Angeles:20220625T110000
DTEND;TZID=America/Los_Angeles:20220625T120000
DTSTAMP:20260424T173419
CREATED:20220604T135912Z
LAST-MODIFIED:20220609T002537Z
UID:10001049-1656154800-1656158400@rainieraudubon.org
SUMMARY:11 am Festival Bird Walk Registration
DESCRIPTION:Related
URL:https://rainieraudubon.org/event/11-am-festival-bird-walk/
LOCATION:Flaming Geyser State Park\, 23700 SE Flaming Geyser Rd\, Auburn\, Washington\, 98092\, United States
END:VEVENT
BEGIN:VEVENT
DTSTART;TZID=America/Los_Angeles:20220625T100000
DTEND;TZID=America/Los_Angeles:20220625T110000
DTSTAMP:20260424T173419
CREATED:20220604T123912Z
LAST-MODIFIED:20220609T002454Z
UID:10001048-1656151200-1656154800@rainieraudubon.org
SUMMARY:10 am Festival Bird Walk Registration
DESCRIPTION:Related
URL:https://rainieraudubon.org/event/10-am-bird-walk-registration/
LOCATION:Flaming Geyser State Park\, 23700 SE Flaming Geyser Rd\, Auburn\, Washington\, 98092\, United States
END:VEVENT
BEGIN:VEVENT
DTSTART;TZID=America/Los_Angeles:20220625T090000
DTEND;TZID=America/Los_Angeles:20220625T150000
DTSTAMP:20260424T173419
CREATED:20211209T053709Z
LAST-MODIFIED:20220610T222628Z
UID:10001027-1656147600-1656169200@rainieraudubon.org
SUMMARY:Rainier Audubon Bird Festival
DESCRIPTION:At Flaming Geyser State Park \n\n\n\n\n\nWe are open for volunteers to help in setup\, take down\,  manning tables\, etc.  \n\n\n\nPlease contact Jay Galvin if interested in volunteering.  gjgalvin@comcast.net      ph. 253-939-3094. \n\n\n\nFour Bird walks starting at 9 AM – 10 AM-11 AM- 12 PM. Limited to first 12 to sign up for each walk. \n\n\n\nRegister under the specific Bird walk event. \n\n\n\n\n\n\n\n\n\n\n\n\n	Related
URL:https://rainieraudubon.org/event/bird-festival-at-flaming-geyser-state-park/
LOCATION:Flaming Geyser State Park\, 23700 SE Flaming Geyser Rd\, Auburn\, Washington\, 98092\, United States
CATEGORIES:Bird Festivals
ATTACH;FMTTYPE=image/jpeg:https://rainieraudubon.org/wp-content/uploads/2021/12/Schedule-of-events-copy.jpg
ORGANIZER;CN="Jay Galvin":MAILTO:gjgalvin@comcast.net
END:VEVENT
END:VCALENDAR