BEGIN:VCALENDAR
VERSION:2.0
PRODID:-//RAINIER AUDUBON SOCIETY - ECPv6.15.20//NONSGML v1.0//EN
CALSCALE:GREGORIAN
METHOD:PUBLISH
X-WR-CALNAME:RAINIER AUDUBON SOCIETY
X-ORIGINAL-URL:https://rainieraudubon.org
X-WR-CALDESC:Events for RAINIER AUDUBON SOCIETY
REFRESH-INTERVAL;VALUE=DURATION:PT1H
X-Robots-Tag:noindex
X-PUBLISHED-TTL:PT1H
BEGIN:VTIMEZONE
TZID:America/Los_Angeles
BEGIN:DAYLIGHT
TZOFFSETFROM:-0800
TZOFFSETTO:-0700
TZNAME:PDT
DTSTART:20210314T100000
END:DAYLIGHT
BEGIN:STANDARD
TZOFFSETFROM:-0700
TZOFFSETTO:-0800
TZNAME:PST
DTSTART:20211107T090000
END:STANDARD
BEGIN:DAYLIGHT
TZOFFSETFROM:-0800
TZOFFSETTO:-0700
TZNAME:PDT
DTSTART:20220313T100000
END:DAYLIGHT
BEGIN:STANDARD
TZOFFSETFROM:-0700
TZOFFSETTO:-0800
TZNAME:PST
DTSTART:20221106T090000
END:STANDARD
BEGIN:DAYLIGHT
TZOFFSETFROM:-0800
TZOFFSETTO:-0700
TZNAME:PDT
DTSTART:20230312T100000
END:DAYLIGHT
BEGIN:STANDARD
TZOFFSETFROM:-0700
TZOFFSETTO:-0800
TZNAME:PST
DTSTART:20231105T090000
END:STANDARD
END:VTIMEZONE
BEGIN:VEVENT
DTSTART;TZID=America/Los_Angeles:20220218T080000
DTEND;TZID=America/Los_Angeles:20220220T170000
DTSTAMP:20260423T154138
CREATED:20211123T171444Z
LAST-MODIFIED:20211211T184105Z
UID:10001025-1645171200-1645376400@rainieraudubon.org
SUMMARY:Winter Wings Festival in Klamath Falls\, Oregon
DESCRIPTION:The Winter Wings Festival is produced by Klamath Basin Audubon Society volunteers with support from sponsors\, grants\, and participant registration fees. Proceeds from this festival support local grants to teachers and other entities for outdoor education and community nature-related projects. Typically the reported species at the festival number about 120 – 133. Here is our 2019 festival bird species count. \n\n\n\n\nLearn More\n\n\n\n\n\n\n\n\n\n\n\n\n\n	Related
URL:https://rainieraudubon.org/event/winter-wings-festival-in-klamath-falls-oregon/
LOCATION:Kalamath Falls\, Kalamath Falls\, Oregon
CATEGORIES:Bird Festivals
ATTACH;FMTTYPE=image/jpeg:https://rainieraudubon.org/wp-content/uploads/2021/11/SnowGees2.jpg
END:VEVENT
END:VCALENDAR