BEGIN:VCALENDAR
VERSION:2.0
PRODID:-//RAINIER AUDUBON SOCIETY - ECPv6.15.20//NONSGML v1.0//EN
CALSCALE:GREGORIAN
METHOD:PUBLISH
X-WR-CALNAME:RAINIER AUDUBON SOCIETY
X-ORIGINAL-URL:https://rainieraudubon.org
X-WR-CALDESC:Events for RAINIER AUDUBON SOCIETY
REFRESH-INTERVAL;VALUE=DURATION:PT1H
X-Robots-Tag:noindex
X-PUBLISHED-TTL:PT1H
BEGIN:VTIMEZONE
TZID:America/Los_Angeles
BEGIN:DAYLIGHT
TZOFFSETFROM:-0800
TZOFFSETTO:-0700
TZNAME:PDT
DTSTART:20220313T100000
END:DAYLIGHT
BEGIN:STANDARD
TZOFFSETFROM:-0700
TZOFFSETTO:-0800
TZNAME:PST
DTSTART:20221106T090000
END:STANDARD
BEGIN:DAYLIGHT
TZOFFSETFROM:-0800
TZOFFSETTO:-0700
TZNAME:PDT
DTSTART:20230312T100000
END:DAYLIGHT
BEGIN:STANDARD
TZOFFSETFROM:-0700
TZOFFSETTO:-0800
TZNAME:PST
DTSTART:20231105T090000
END:STANDARD
BEGIN:DAYLIGHT
TZOFFSETFROM:-0800
TZOFFSETTO:-0700
TZNAME:PDT
DTSTART:20240310T100000
END:DAYLIGHT
BEGIN:STANDARD
TZOFFSETFROM:-0700
TZOFFSETTO:-0800
TZNAME:PST
DTSTART:20241103T090000
END:STANDARD
END:VTIMEZONE
BEGIN:VEVENT
DTSTART;TZID=America/Los_Angeles:20230212T083000
DTEND;TZID=America/Los_Angeles:20230212T130000
DTSTAMP:20260423T154331
CREATED:20230128T053200Z
LAST-MODIFIED:20230128T054614Z
UID:10001180-1676190600-1676206800@rainieraudubon.org
SUMMARY:Fresh Water and Saltwater Birds
DESCRIPTION:Join us for a morning walk around Lake Fenwick to look for wintering waterfowl and woodland birds. We’ll practice spotting\, listening for\, and identifying the species we encounter. Then we’ll move on to Redondo Beach to scan Poverty Bay for saltwater birds. We may walk part of the boardwalk there\, and check the edges of nearby Wooten Park if time allows.  \n\n\n\nLet’s meet in the middle parking lot at Lake Fenwick\, the next lot north of the fisherman’s lot\, at 8:30AM. Bring layers for the weather\, snacks and water as needed.  \n\n\n\nTo sign up email Barbara Petersen at bpbatfan@aol.com\, or leave a voice message at 253 389 3204. \n\n\n\n\n\n\n\nPhotos by Jay Galvin \n\n\n\n\n\n\n\n\n\n\n\n\n	Related
URL:https://rainieraudubon.org/event/fresh-water-and-saltwater-birds/
LOCATION:Lake Fenwick\, Washington\, 25828 Lake Fenwick Rd\, Kent\, Washington\, 98032\, United States
CATEGORIES:Fieldtrips
ATTACH;FMTTYPE=image/jpeg:https://rainieraudubon.org/wp-content/uploads/2023/01/7E9A4950-copy-1-e1674883514278.jpg
END:VEVENT
END:VCALENDAR