BEGIN:VCALENDAR
VERSION:2.0
PRODID:-//RAINIER AUDUBON SOCIETY - ECPv6.15.20//NONSGML v1.0//EN
CALSCALE:GREGORIAN
METHOD:PUBLISH
X-ORIGINAL-URL:https://rainieraudubon.org
X-WR-CALDESC:Events for RAINIER AUDUBON SOCIETY
REFRESH-INTERVAL;VALUE=DURATION:PT1H
X-Robots-Tag:noindex
X-PUBLISHED-TTL:PT1H
BEGIN:VTIMEZONE
TZID:America/Los_Angeles
BEGIN:DAYLIGHT
TZOFFSETFROM:-0800
TZOFFSETTO:-0700
TZNAME:PDT
DTSTART:20220313T100000
END:DAYLIGHT
BEGIN:STANDARD
TZOFFSETFROM:-0700
TZOFFSETTO:-0800
TZNAME:PST
DTSTART:20221106T090000
END:STANDARD
BEGIN:DAYLIGHT
TZOFFSETFROM:-0800
TZOFFSETTO:-0700
TZNAME:PDT
DTSTART:20230312T100000
END:DAYLIGHT
BEGIN:STANDARD
TZOFFSETFROM:-0700
TZOFFSETTO:-0800
TZNAME:PST
DTSTART:20231105T090000
END:STANDARD
BEGIN:DAYLIGHT
TZOFFSETFROM:-0800
TZOFFSETTO:-0700
TZNAME:PDT
DTSTART:20240310T100000
END:DAYLIGHT
BEGIN:STANDARD
TZOFFSETFROM:-0700
TZOFFSETTO:-0800
TZNAME:PST
DTSTART:20241103T090000
END:STANDARD
END:VTIMEZONE
BEGIN:VEVENT
DTSTART;TZID=America/Los_Angeles:20230217T000000
DTEND;TZID=America/Los_Angeles:20230220T235959
DTSTAMP:20260423T144949
CREATED:20221010T020513Z
LAST-MODIFIED:20221011T021022Z
UID:10001127-1676592000-1676937599@rainieraudubon.org
SUMMARY:Winter Wings Festival
DESCRIPTION:The Winter Wings brings together birders and photographers to learn and explore with top notch professionals and enthusiastic local guides. The Klamath Basin is renowned for its massive wintering population of Bald Eagles\, but is prime habitat for many other raptors including owls\, as well as a diversity of waterfowl.  \n\n\n\nWhat’s New for 2023?★ Festival runs Friday through Monday (instead of Thursday through Sunday)★  Free Friday afternoon presentations with updates on the Klamath Basin and stakeholder initiatives★ Lots of new programs and presenters including new keynoters\, pro photographers\, and raptor workshops★ Vendors (Friday afternoon through Saturday) include new optics and camera vendors plus many of your favorite local vendors★ Free children’s activities again on Saturday★ Our first ever Sunday night reception gives you the chance to mingle with new birding and photography friends!★ New photo contest prizes \n\n\n\nThe 2023 Festival will feature singer/songwriter and raptor specialist Jen Hajj and award-winning photographer Ray Hennessy.  \n\n\n\nJoin us for an extensive array of field trips\, workshops\, presentations\, and receptions that highlight the wonders of the Klamath Basin in winter. #winterwingsfestiva \n\n\n\n\n\n \n\n\n\nFor information call 877-541-BIRD (2473) or email to info@winterwingsfest.org \n\n\n\nRegistration opens around mid-December 2022; check website for details. \n\n\n\n\n\n\n\n\n\n \n\n\n\n\n	Related
URL:https://rainieraudubon.org/event/winter-wings-festival/
LOCATION:Oregon Institute of Technology\, Klamath Falls\, Oregon.\, 3201 Campus Drive\, Klamath Falls\, Oregon\, 97601\, United States
CATEGORIES:Bird Festivals
ATTACH;FMTTYPE=image/png:https://rainieraudubon.org/wp-content/uploads/2022/10/WinterWings.png
END:VEVENT
END:VCALENDAR