BEGIN:VCALENDAR
VERSION:2.0
PRODID:-//RAINIER AUDUBON SOCIETY - ECPv6.15.20//NONSGML v1.0//EN
CALSCALE:GREGORIAN
METHOD:PUBLISH
X-ORIGINAL-URL:https://rainieraudubon.org
X-WR-CALDESC:Events for RAINIER AUDUBON SOCIETY
REFRESH-INTERVAL;VALUE=DURATION:PT1H
X-Robots-Tag:noindex
X-PUBLISHED-TTL:PT1H
BEGIN:VTIMEZONE
TZID:America/Los_Angeles
BEGIN:DAYLIGHT
TZOFFSETFROM:-0800
TZOFFSETTO:-0700
TZNAME:PDT
DTSTART:20220313T100000
END:DAYLIGHT
BEGIN:STANDARD
TZOFFSETFROM:-0700
TZOFFSETTO:-0800
TZNAME:PST
DTSTART:20221106T090000
END:STANDARD
BEGIN:DAYLIGHT
TZOFFSETFROM:-0800
TZOFFSETTO:-0700
TZNAME:PDT
DTSTART:20230312T100000
END:DAYLIGHT
BEGIN:STANDARD
TZOFFSETFROM:-0700
TZOFFSETTO:-0800
TZNAME:PST
DTSTART:20231105T090000
END:STANDARD
BEGIN:DAYLIGHT
TZOFFSETFROM:-0800
TZOFFSETTO:-0700
TZNAME:PDT
DTSTART:20240310T100000
END:DAYLIGHT
BEGIN:STANDARD
TZOFFSETFROM:-0700
TZOFFSETTO:-0800
TZNAME:PST
DTSTART:20241103T090000
END:STANDARD
BEGIN:DAYLIGHT
TZOFFSETFROM:-0800
TZOFFSETTO:-0700
TZNAME:PDT
DTSTART:20250309T100000
END:DAYLIGHT
BEGIN:STANDARD
TZOFFSETFROM:-0700
TZOFFSETTO:-0800
TZNAME:PST
DTSTART:20251102T090000
END:STANDARD
BEGIN:DAYLIGHT
TZOFFSETFROM:-0800
TZOFFSETTO:-0700
TZNAME:PDT
DTSTART:20260308T100000
END:DAYLIGHT
BEGIN:STANDARD
TZOFFSETFROM:-0700
TZOFFSETTO:-0800
TZNAME:PST
DTSTART:20261101T090000
END:STANDARD
END:VTIMEZONE
BEGIN:VEVENT
DTSTART;TZID=America/Los_Angeles:20250329T083000
DTEND;TZID=America/Los_Angeles:20250329T123000
DTSTAMP:20260425T053902
CREATED:20250122T024121Z
LAST-MODIFIED:20250126T224004Z
UID:10003153-1743237000-1743251400@rainieraudubon.org
SUMMARY:Duwamish Waterway 
DESCRIPTION:Leader: Barbara Petersen \n\n\n\nTukwila Community Center  \n\n\n\nJoin Barbara for a morning exploration of birding spots near the Duwamish River. You will want to return to these places often in the spring. They can be quite busy with bird activity. Common sightings include Osprey\, Bald Eagle\, Green Heron\, Belted Kingfisher\, Western Tanager\, even Bullock’s Oriole if the timing is right. We’ll visit North Winds Weir\, Cecil Moses Park\, and Duwamish Hill Preserve. We will also explore Duwamish Gardens and the river path at Tukwila Community Center.  \n\n\n\nMeet at the Tukwila Community Center in front of the main entrance by 8:30 a.m. and will finish there about 12:30 p.m. We’ll walk less than a half mile on paved trails. Bring drinks\, snacks\, binoculars\, scopes and cameras as needed to enhance this half day outing. We’ll sharpen our spotting skills as a few of these spots have a lot of traffic noise. To sign up\, email Barbara at bpbatfan@aol.com or call / text 253-389-3204 and leave a message. \n\n\n\n\n\n\n\n\n\n\n\n\n	Related
URL:https://rainieraudubon.org/event/duwamish-waterway-2/
LOCATION:Tukwila Community Center\, 12424 42nd Ave S\,\, Tukwila\,\, Washington\, 98168\, United States
CATEGORIES:Fieldtrips
ATTACH;FMTTYPE=image/webp:https://rainieraudubon.org/wp-content/uploads/2025/01/16883902972_0c8e53d474_c.webp
END:VEVENT
BEGIN:VEVENT
DTSTART;TZID=America/Los_Angeles:20240310T083000
DTEND;TZID=America/Los_Angeles:20240310T123000
DTSTAMP:20260425T053902
CREATED:20231028T224504Z
LAST-MODIFIED:20240301T040813Z
UID:10003091-1710059400-1710073800@rainieraudubon.org
SUMMARY:Birding Duwamish Waterway Spots
DESCRIPTION:Leader: Barbara Petersen \n\n\n\nMeet: Tukwila Community Center \n\n\n\nJoin Barbara for a morning exploration of birding spots near the Duwamish River. You will want to return to these places often in the spring when they can be quite busy with bird activity. Common sightings include Osprey\, Bald Eagle\, Green Heron\, Belted Kingfisher\, Western Tanager\, even Bullock’s Oriole if the timing is right. We’ll visit North Wind’s Weir\, Cecil Moses Park\, Duwamish Hill Preserve\, Duwamish Gardens and the river path at Tukwila Community Center. \n\n\n\nMeet at the Tukwila Community Center in front of the main entrance by 8:30 a.m. and we’ll finish there about 12:30 p.m. We’ll walk less than a half a mile on paved trails. Bring drinks\, snacks\, binoculars\, scopes and cameras as needed to enhance this half day outing. We’ll sharpen our spotting skills\, as a few of these spots have traffic noise that impedes birding by ear. To sign up\, email Barbara at bpbatfan@aol.com or call / text 253-389-3204 and leave a message. \n\n\n\n\n\n\n\n\n\n\n\n\n	Related
URL:https://rainieraudubon.org/event/duwamish-river-sites-with-barbara-p/
LOCATION:Tukwila Community Center\, 12424 42nd Ave S\,\, Tukwila\,\, Washington\, 98168\, United States
CATEGORIES:Fieldtrips
ATTACH;FMTTYPE=image/jpeg:https://rainieraudubon.org/wp-content/uploads/2023/10/2019-08-15_0246-DLS-Edit.jpg
END:VEVENT
BEGIN:VEVENT
DTSTART;TZID=America/Los_Angeles:20230408T083000
DTEND;TZID=America/Los_Angeles:20230408T123000
DTSTAMP:20260425T053902
CREATED:20230304T003229Z
LAST-MODIFIED:20230304T003240Z
UID:10001185-1680942600-1680957000@rainieraudubon.org
SUMMARY:Duwamish Waterway
DESCRIPTION:Leader: Barbara Petersen \n\n\n\nTukwila Community Center \n\n\n\n\n\n\n\nJoin Barbara for a morning exploration of birding spots near the Duwamish River. You will want to return to these places often in the spring when they can be quite busy with bird activity. Common sightings include Osprey\, Bald Eagle\, Green Heron\, Belted Kingfisher\, Western Tanager\, even Bullock’s Oriole if the timing is right. We’ll visit North Wind’s Weir\, Cecil Moses Park\, Duwamish Hill Preserve\, Duwamish Gardens and the river path at Tukwila Community Center. \n\n\n\nMeet at the Tukwila Community Center in front of the main entrance by 8:30 a.m. and will finish there about 12:30 p.m. We’ll walk less than a half a mile on paved trails. Bring drinks\, snacks\, binoculars\, scopes and cameras as needed to enhance this half day outing. We’ll sharpen our spotting skills as a few of these spots have a lot of traffic noise. To sign up\, email Barbara at bpbatfan@aol.com or call / text 253-389-3204 and leave a message. \n\n\n\n\n\n\n\n\n\n\n\n\n	Related
URL:https://rainieraudubon.org/event/duwamish-waterway/
LOCATION:Tukwila Community Center\, 12424 42nd Ave S\,\, Tukwila\,\, Washington\, 98168\, United States
CATEGORIES:Fieldtrips
ATTACH;FMTTYPE=image/jpeg:https://rainieraudubon.org/wp-content/uploads/2023/03/2019-08-15_0179-DLS.jpg
END:VEVENT
END:VCALENDAR